Workbook

Sheet 2026
B1: Det juridiske fakultet, budsjett eksamen 2026
B2: Sensurbudsjettet *
B5: Emne | C5: Tidligere Tiltaks- kode | D5: Delprosjekt | E5: Antall kandidater | F5: herav antall ordinære | G5: herav antall privatister | H5: Sats (kroner pr sensurering) | I5: Ant sensorer | J5: Kostn pr kandiat | K5: Sensur kostnad | L5: Andel interne sensorer | M5: Sum kostnad eksterne sensorer | N5: Arbeidsgiveravgift | O5: Totale kostnader
B6: Skoleeksamen 1. studieår, 1. semester | C6: 693100 | D6: 102563101 | E6: 390 | H6: 354 | I6: 2 | J6: =+H6*I6 -> 708 | K6: =+J6*E6 -> 276120 | L6: 0.3 | M6: =K6-K6*L6 -> 193284 | N6: =M6*0.141 -> 27253.044 | O6: =SUM(M6:N6) -> 220537.04 | P6: X
B7: Skoleeksamen 1. studieår, 2. semester | C7: 693100 | D7: 102563101 | E7: 410 | F7: 400 | G7: 10 | H7: 566 | I7: 2 | J7: =+H7*I7 -> 1132 | K7: =+J7*E7 -> 464120 | L7: 0.2 | M7: =K7-K7*L7 -> 371296 | N7: =M7*0.141 -> 52352.736 | O7: =SUM(M7:N7) -> 423648.74 | P7: X
B8: Skoleeksamen 2. studieår, 1. semester | C8: 693200 | D8: 102563201 | E8: 430 | H8: 566 | I8: 2 | J8: =+H8*I8 -> 1132 | K8: =+J8*E8 -> 486760 | L8: 0.2 | M8: =K8-K8*L8 -> 389408 | N8: =M8*0.141 -> 54906.528 | O8: =SUM(M8:N8) -> 444314.53 | P8: X
B9: Skoleeksamen 2. studieår, 2. semester | C9: 693200 | D9: 102563201 | E9: 450 | H9: 566 | I9: 2 | J9: =+H9*I9 -> 1132 | K9: =+J9*E9 -> 509400 | L9: 0.2 | M9: =K9-K9*L9 -> 407520 | N9: =M9*0.141 -> 57460.32 | O9: =SUM(M9:N9) -> 464980.32
B10: Exfac | C10: 693009 | D10: 102563202 | E10: 360 | H10: 407 | I10: 2 | J10: =+H10*I10 -> 814 | K10: =+J10*E10 -> 293040 | L10: 0.1 | M10: =K10-K10*L10 -> 263736 | N10: =M10*0.141 -> 37186.776 | O10: =SUM(M10:N10) -> 300922.78 | P10: X
B11: Skoleeksamen 3. studieår, 1. semester | C11: 693300 | D11: 102563301 | E11: 450 | H11: 566 | I11: 2 | J11: =+H11*I11 -> 1132 | K11: =+J11*E11 -> 509400 | L11: 0.15 | M11: =K11-K11*L11 -> 432990 | N11: =M11*0.141 -> 61051.59 | O11: =SUM(M11:N11) -> 494041.59 | P11: X | Q11: =Tall som seksjonsleder eksamen utarbeider
B12: Skoleeksamen 3. studieår, 2. semester | C12: 693300 | D12: 102563301 | E12: 450 | H12: 566 | I12: 2 | J12: =+H12*I12 -> 1132 | K12: =+J12*E12 -> 509400 | L12: 0.15 | M12: =K12-K12*L12 -> 432990 | N12: =M12*0.141 -> 61051.59 | O12: =SUM(M12:N12) -> 494041.59 | P12: X
B13: Gruppeinnlevering og individuelle muntlig 3. studieår, 2. sem. | C13: 693300 | D13: 102563301 | E13: 400 | H13: 566 | I13: 2 | J13: =+H13*I13 -> 1132 | K13: =+J13*E13 -> 452800 | L13: 0.15 | M13: =K13-K13*L13 -> 384880 | N13: =M13*0.141 -> 54268.08 | O13: =SUM(M13:N13) -> 439148.08
B14: Skoleeksamen 4. studieår, 1. semester | C14: 693400 | D14: 102563401 | E14: 440 | F14: 437 | G14: 3 | H14: 407 | I14: 2 | J14: =+H14*I14 -> 814 | K14: =+J14*E14 -> 358160 | L14: 0.1 | M14: =K14-K14*L14 -> 322344 | N14: =M14*0.141 -> 45450.504 | O14: =SUM(M14:N14) -> 367794.5 | P14: X
B15: Skoleeksamen 4. studieår, 2. semester (JUS4211), utfaset 2024 | C15: 693400 | D15: 102563401 | E15: 0 | F15: 0 | G15: 0 | H15: 0 | I15: 0 | J15: =+H15*I15 -> 0 | K15: =+J15*E15 -> 0 | L15: 0 | M15: =K15-K15*L15 -> 0 | N15: =M15*0.141 -> 0 | O15: =SUM(M15:N15) -> 0 | P15: X
B16: Mappe og muntlig 4. studieår, 2. semester (JUS4212) | C16: 693400 | D16: 102563401 | E16: 405 | H16: 814 | I16: 2 | J16: =+H16*I16 -> 1628 | K16: =+J16*E16 -> 659340 | L16: 0.1 | M16: =K16-K16*L16 -> 593406 | N16: =M16*0.141 -> 83670.246 | O16: =SUM(M16:N16) -> 677076.25 | P16: X
B17: Skoleeksamen 4. studieår, 2. semester nytt (JUS4213) | C17: 693400 | D17: 102563401 | E17: 440 | H17: 566 | I17: 2 | J17: =+H17*I17 -> 1132 | K17: =+J17*E17 -> 498080 | L17: 0.1 | M17: =K17-K17*L17 -> 448272 | N17: =M17*0.141 -> 63206.352 | O17: =SUM(M17:N17) -> 511478.35 | P17: X
B18: Semioblig. 4. studieår, JUS4121, JUS422, JUS4123 | C18: 693400 | D18: 102563401 | E18: 400 | H18: 407 | I18: 2 | J18: =+H18*I18 -> 814 | K18: =+J18*E18 -> 325600 | L18: 0.5 | M18: =K18-K18*L18 -> 162800 | N18: =M18*0.141 -> 22954.8 | O18: =SUM(M18:N18) -> 185754.8 | P18: X
B19: Masteroppg 30 SP | C19: 693001 | D19: 102563503 | E19: 350 | H19: 3558 | I19: 2 | J19: =+H19*I19 -> 7116 | K19: =+J19*E19 -> 2490600 | L19: 0.35 | M19: =K19-K19*L19 -> 1618890 | N19: =M19*0.141 -> 228263.49 | O19: =SUM(M19:N19) -> 1847153.5 | P19: X
B20: Masteroppg 60 SP | C20: 693004 | D20: 102563504 | E20: 45 | H20: 6099 | I20: 2 | J20: =+H20*I20 -> 12198 | K20: =+J20*E20 -> 548910 | L20: 0.4 | M20: =K20-K20*L20 -> 329346 | N20: =M20*0.141 -> 46437.786 | O20: =SUM(M20:N20) -> 375783.79 | P20: X
B21: Valgemner lavere grad | C21: 691020 | D21: 102563501 | E21: 1600 | H21: 407 | I21: 2 | J21: =+H21*I21 -> 814 | K21: =+J21*E21 -> 1302400 | L21: 0.3 | M21: =K21-K21*L21 -> 911680 | N21: =M21*0.141 -> 128546.88 | O21: =SUM(M21:N21) -> 1040226.9 | P21: X
B22: Valgemner høyere grad | C22: 692020 | D22: 102563502 | E22: 2400 | H22: 407 | I22: 2 | J22: =+H22*I22 -> 814 | K22: =+J22*E22 -> 1953600 | L22: 0.35 | M22: =K22-K22*L22 -> 1269840 | N22: =M22*0.141 -> 179047.44 | O22: =SUM(M22:N22) -> 1448887.4 | P22: X | IU22: =SUM(H22:IT22) -> 4852598.2
B23: Valgemner, høyere grad (varierte vurderingsformer) | C23: 692020 | D23: 102563502 | E23: 600 | H23: =761*1.02 -> 776.22 | I23: 2 | J23: =+H23*I23 -> 1552.44 | K23: =+J23*E23 -> 931464 | L23: 0.3 | M23: =K23-K23*L23 -> 652024.8 | N23: =M23*0.141 -> 91935.497 | O23: =SUM(M23:N23) -> 743960.3
B24: JUROFF-emner | C24: 691000 | D24: 102563603 | E24: 600 | H24: 407 | I24: 2 | J24: =+H24*I24 -> 814 | K24: =+J24*E24 -> 488400 | L24: 0.2 | M24: =K24-K24*L24 -> 390720 | N24: =M24*0.141 -> 55091.52 | O24: =SUM(M24:N24) -> 445811.52
B25: Språkeksamener | C25: 693008 | D25: 102563031 | E25: 5 | H25: =872*1.02 -> 889.44 | I25: 2 | J25: =+H25*I25 -> 1778.88 | K25: =+J25*E25 -> 8894.4 | L25: 0.5 | M25: =K25-K25*L25 -> 4447.2 | N25: =M25*0.141 -> 627.0552 | O25: =SUM(M25:N25) -> 5074.2552 | P25: X
B26: Internasj. Mastergrader | C26: 692504 | D26: 102563021 | E26: 100 | H26: 3558 | I26: 2 | J26: =+H26*I26 -> 7116 | K26: =+J26*E26 -> 711600 | L26: 0.35 | M26: =K26-K26*L26 -> 462540 | N26: =M26*0.141 -> 65218.14 | O26: =SUM(M26:N26) -> 527758.14 | P26: X
B27: MA Forvaltningsinformatikk | C27: 692107 | D27: 102563100 | E27: 100 | H27: 566 | I27: 2 | J27: =+H27*I27 -> 1132 | K27: =+J27*E27 -> 113200 | L27: 0.3 | M27: =K27-K27*L27 -> 79240 | N27: =M27*0.141 -> 11172.84 | O27: =SUM(M27:N27) -> 90412.84 | P27: X
B28: BA KRIM/RSOS | C28: 691010 | D28: 102563001 | E28: 1100 | H28: =587*1.02 -> 598.74 | I28: 2 | J28: =+H28*I28 -> 1197.48 | K28: =+J28*E28 -> 1317228 | L28: 0.3 | M28: =K28-K28*L28 -> 922059.6 | N28: =M28*0.141 -> 130010.4 | O28: =SUM(M28:N28) -> 1052070 | P28: X
B29: MA KRIM/RSOS | C29: 692106 | D29: 102563002 | E29: 35 | H29: 6099 | I29: 2 | J29: =+H29*I29 -> 12198 | K29: =+J29*E29 -> 426930 | L29: 0.2 | M29: =K29-K29*L29 -> 341544 | N29: =M29*0.141 -> 48157.704 | O29: =SUM(M29:N29) -> 389701.7 | P29: X
B30: klager | C30: 690004 | D30: 102563601 | E30: 1400 | H30: =587*1.02 -> 598.74 | I30: 2 | J30: =+H30*I30 -> 1197.48 | K30: =+J30*E30 -> 1676472 | L30: 0.1 | M30: =K30-K30*L30 -> 1508824.8 | N30: =M30*0.141 -> 212744.3 | O30: =SUM(M30:N30) -> 1721569.1 | P30: X
B31: utsatt prøve | C31: 690005 | D31: 102563602 | E31: 120 | H31: 407 | I31: 2 | J31: =+H31*I31 -> 814 | K31: =+J31*E31 -> 97680 | L31: 0.1 | M31: =K31-K31*L31 -> 87912 | N31: =M31*0.141 -> 12395.592 | O31: =SUM(M31:N31) -> 100307.59 | P31: X
B32: Sum | E32: =SUM(E6:E31) -> 13480 | F32: =SUM(F6:F31) -> 837 | G32: =SUM(G6:G31) -> 13 | J32: =+K32/E32 -> 1291.5132 | K32: =SUM(K6:K31) -> 17409598 | M32: =SUM(M6:M31) -> 12981994 | N32: =SUM(N6:N31) -> 1830461.2 | O32: =SUM(O6:O31) -> 14812456
B33: Sum kostnader sensur | K33: =SUM(K32:K32) -> 17409598 | M33: =SUM(M32:M32) -> 12981994 | N33: =SUM(N32:N32) -> 1830461.2 | O33: =SUM(O32:O32) -> 14812456
M35: Sum netto kostnader | N35: Sosiale kostnader | O35: Totale kostnader
B36: Driftskostnader Lovdata | C36: 901000 | D36: 100000011 | K36: 59000 | M36: =K36 -> 59000 | O36: =SUM(M36:N36) -> 59000
B37: Diverse driftskostnader | C37: 690000 | D37: 100000017 | K37: 100000 | M37: =K37 -> 100000 | O37: =SUM(M37:N37) -> 100000 | P37: X
B38: Eksamen 2025 | K38: =SUM(K36:K37)+K33 -> 17568598 | M38: =SUM(M36:M37)+M33 -> 13140994 | N38: =SUM(N36:N37)+N33 -> 1830461.2 | O38: =SUM(O36:O37)+O33 -> 14971456
B40: Kostnad pr kand | K40: 1250
B42: Privatistinntekter | C42: 699000 | D42: 102563999 | K42: =SUM(K43:K46) -> 44900 | L42: X
K43: =G43*H43 -> 0
B44: JUS1211 | G44: 10 | H44: 3950 | K44: =G44*H44 -> 39500
B45: JUS4111 | G45: 3 | H45: 1800 | K45: 5400
K46: =G46*H46 -> 0

Sheet Kontering
K2: År | L2: 2026 | M2: =L2+1 -> 2027 | N2: =M2+1 -> 2028 | O2: =N2+1 -> 2029 | P2: =O2+1 -> 2030
A3: Konto | B3: Sted | C3: Delprosjekt | D3: Prosjekt | E3: Arbeidspakke | F3: Justerings-kode | G3: Autopostering | H3: Periodiserings-nøkkel | I3: Beløp | J3: Beskrivelse | L3: Bud | M3: Bud | N3: Bud | O3: Bud | P3: Bud
A4: 5113 | B4: 12003500 | C4: 102563101 | D4: 102563 | G4: A_1 | I4: =SUM('2026'!M6:M7) -> 564580 | J4: 1. studieår, 1. og 2. semester | L4: =I4 -> 564580 | M4: =L4 -> 564580 | N4: =M4 -> 564580 | O4: =N4 -> 564580 | P4: =O4 -> 564580
A5: 5113 | B5: 12003500 | C5: 102563201 | D5: 102563 | G5: A_1 | I5: =SUM('2026'!M8:M9) -> 796928 | J5: 2. studieår, 1. og 2. semester | L5: =I5 -> 796928 | M5: =L5 -> 796928 | N5: =M5 -> 796928 | O5: =N5 -> 796928 | P5: =O5 -> 796928
A6: 5113 | B6: 12003500 | C6: 102563301 | D6: 102563 | G6: A_1 | I6: =SUM('2026'!M11:M13) -> 1250860 | J6: 3. studieår, 1. og 3. semester, og hjemmeeksamen | L6: =I6 -> 1250860 | M6: =L6 -> 1250860 | N6: =M6 -> 1250860 | O6: =N6 -> 1250860 | P6: =O6 -> 1250860
A7: 5113 | B7: 12003500 | C7: 102563401 | D7: 102563 | G7: A_1 | I7: =SUM('2026'!M14:M18) -> 1526822 | J7: 4. studieår | L7: =I7 -> 1526822 | M7: =L7 -> 1526822 | N7: =M7 -> 1526822 | O7: =N7 -> 1526822 | P7: =O7 -> 1526822
A8: 5113 | B8: 12003500 | C8: 102563202 | D8: 102563 | G8: A_1 | I8: ='2026'!M10 -> 263736 | J8: Ex. Fac. | L8: =I8 -> 263736 | M8: =L8 -> 263736 | N8: =M8 -> 263736 | O8: =N8 -> 263736 | P8: =O8 -> 263736
A9: 5113 | B9: 12003500 | C9: 102563503 | D9: 102563 | G9: A_1 | I9: ='2026'!M19 -> 1618890 | J9: MA Oppgave, 30 SP | L9: =I9 -> 1618890 | M9: =L9 -> 1618890 | N9: =M9 -> 1618890 | O9: =N9 -> 1618890 | P9: =O9 -> 1618890
A10: 5113 | B10: 12003500 | C10: 102563504 | D10: 102563 | G10: A_1 | I10: ='2026'!M20 -> 329346 | J10: MA Oppgave, 60 SP | L10: =I10 -> 329346 | M10: =L10 -> 329346 | N10: =M10 -> 329346 | O10: =N10 -> 329346 | P10: =O10 -> 329346
A11: 5113 | B11: 12003500 | C11: 102563501 | D11: 102563 | G11: A_1 | I11: ='2026'!M21 -> 911680 | J11: Valgemner, lavere grad | L11: =I11 -> 911680 | M11: =L11 -> 911680 | N11: =M11 -> 911680 | O11: =N11 -> 911680 | P11: =O11 -> 911680
A12: 5113 | B12: 12003500 | C12: 102563502 | D12: 102563 | G12: A_1 | I12: =SUM('2026'!M22:M23) -> 1921864.8 | J12: Valgemner, høyere grad | L12: =I12 -> 1921864.8 | M12: =L12 -> 1921864.8 | N12: =M12 -> 1921864.8 | O12: =N12 -> 1921864.8 | P12: =O12 -> 1921864.8
A13: 5113 | B13: 12003500 | C13: 102563031 | D13: 102563 | G13: A_1 | I13: ='2026'!M25 -> 4447.2 | J13: Språkeks. | L13: =I13 -> 4447.2 | M13: =L13 -> 4447.2 | N13: =M13 -> 4447.2 | O13: =N13 -> 4447.2 | P13: =O13 -> 4447.2
A14: 5113 | B14: 12003500 | C14: 102563603 | D14: 102563 | G14: A_1 | I14: ='2026'!M24 -> 390720 | J14: JUR-OFF | L14: =I14 -> 390720 | M14: =L14 -> 390720 | N14: =M14 -> 390720 | O14: =N14 -> 390720 | P14: =O14 -> 390720
A15: 5113 | B15: 12003500 | C15: 102563021 | D15: 102563 | G15: A_1 | I15: ='2026'!M26 -> 462540 | J15: Internasjonale mastergrader | L15: =I15 -> 462540 | M15: =L15 -> 462540 | N15: =M15 -> 462540 | O15: =N15 -> 462540 | P15: =O15 -> 462540
A16: 5113 | B16: 12003500 | C16: 102563100 | D16: 102563 | G16: A_1 | I16: ='2026'!M27 -> 79240 | J16: MA FINF | L16: =I16 -> 79240 | M16: =L16 -> 79240 | N16: =M16 -> 79240 | O16: =N16 -> 79240 | P16: =O16 -> 79240
A17: 5113 | B17: 12003500 | C17: 102563001 | D17: 102563 | G17: A_1 | I17: ='2026'!M28 -> 922059.6 | J17: BA Krim/RSOS | L17: =I17 -> 922059.6 | M17: =L17 -> 922059.6 | N17: =M17 -> 922059.6 | O17: =N17 -> 922059.6 | P17: =O17 -> 922059.6
A18: 5113 | B18: 12003500 | C18: 102563002 | D18: 102563 | G18: A_1 | I18: ='2026'!M29 -> 341544 | J18: MA Krim/RSOS | L18: =I18 -> 341544 | M18: =L18 -> 341544 | N18: =M18 -> 341544 | O18: =N18 -> 341544 | P18: =O18 -> 341544
A19: 5113 | B19: 12003500 | C19: 102563601 | D19: 102563 | G19: A_1 | I19: ='2026'!M30 -> 1508824.8 | J19: Klager | L19: =I19 -> 1508824.8 | M19: =L19 -> 1508824.8 | N19: =M19 -> 1508824.8 | O19: =N19 -> 1508824.8 | P19: =O19 -> 1508824.8
A20: 5113 | B20: 12003500 | C20: 102563602 | D20: 102563 | G20: A_1 | I20: ='2026'!M31 -> 87912 | J20: Utsatt prøve | L20: =I20 -> 87912 | M20: =L20 -> 87912 | N20: =M20 -> 87912 | O20: =N20 -> 87912 | P20: =O20 -> 87912
