Workbook

Sheet Registrering
A1: Søknadsbudsjetteringsmal for Marie Skłodowska-Curie Actions 2024 og 2025 "MSCA Postdoctoral Fellowships" og " MSCA Doctoral Networks"
A3: Prosjektinformasjon
A4: Prosjekttittel*
A5: Prosjektleder*
A6: Prosjekteier (institutt mv)*
A7: Institutt-/senterleder mv*
A8: Prosjektnummer (om opprettet)
A9: Saksnummer i ephorte (om opprettet)
A10: Kort begrunnelse for prosjektes faglige interesse*
A15: Prosjektperiode
A16: Dato (etablering av budsjettet)
A17: Første budsjettår (oppstartsår)*
... A19: Prosjektets (avtaleperioden) slutt*
A20: Prosjektets slutt (etter endring) | F20: Beregning av valuta etter vedtatt modell for valutapolicy:
A21: Informasjon om finansiering | F21: Snittkurs 01.09.2021 - 01.09.2023 | I21: 11.3 | J21: se link: | K21: valutapolicy
A22: Navn på finansieringskilde(r) | B22: Horizon Europe Work Programme 2021-2024 Marie Sklodowska-Curie Actions | F22: fratrekk risikofaktor | I22: 0.25
A23: Valutakurs (må forankres hos instituttleder) | B23: 11.05 | F23: Policykurs for innev. Periode | I23: =I21-I22 -> 11.05
A24: Prosjektkategorisering | F24: Eventuell manuell overstyring:
A25: Category (choose) | B25: MSCA Postdoctoral Fellowships
A26: Family Allowance | B26: Nei
A27: Finansieringsprinsipp | B27: Kostnadsspesifikk finansiering
A28: Finansieringstype* | B28: Fast beløp | C28: Vit. | D28: T/A
A29: Prosjekttype (overheadkostnader)* | B29: Prosjekter som foregår i UiOs lokaler | C29: =IF(B29="",0,VLOOKUP(B29,Tabeller!$G$6:$J$11,2,FALSE)) -> 465000 | D29: =IF(B29="",0,VLOOKUP(B29,Tabeller!$G$6:$J$11,3,FALSE)) -> 142000
A30: =Budsjett!A39 -> Management & indirect contribution (Year/Person)
A31: Pris- lønnsjustering | C31: Inneværende år | D31: 2025 | E31: 2026
A32: Årlig lønnsjustering i hele prosjektperioden | B32: Ja | C32: 0.049 | D32: 0.035 | E32: 0.035

Sheet Budsjett
AQ1: LØNNS- OG DRIFTSKOSTNADER | BA1: OVERHEADKOSTNADER | BI1: Eksternt finansiert overhead
D2: REGISTRER MÅNEDSVERK | U2: Gjelder ved sats per årsverk | BR2: Internt finansiert overhead
B3: Årslønn | C3: Navn | D3: 2024 | E3: =D3+1 -> 2025 | F3: =E3+1 -> 2026 | G3: =F3+1 -> 2027 | H3: =G3+1 -> 2028 | I3: =H3+1 -> 2029 | J3: =I3+1 -> 2030 | K3: =J3+1 -> 2031 | L3: Sum månedsverk | M3: Lønn og sos. kostnader | N3: Overhead | O3: Totalt | AC3: Bruttolønn | AD3: inkl lønnsv. | AE3: Lønn | AF3: Feriep | AG3: AGA | AH3: Pensjon | AI3: inkl sos.avg. | AJ3: inkl sos.avg. Per mnd | AK3: inkl. ind.kost. | AL3: Timesats | AO3: =D3 -> 2024 | AP3: =E3 -> 2025 | AQ3: =F3 -> 2026 | AR3: =G3 -> 2027 | AS3: =H3 -> 2028 | AT3: =I3 -> 2029 | AU3: =J3 -> 2030 | AV3: =K3 -> 2031 | AX3: =AO3 -> 2024 | AY3: =AP3 -> 2025 | AZ3: =AQ3 -> 2026 | BA3: =AR3 -> 2027 | BB3: =AS3 -> 2028 | BC3: =AT3 -> 2029 | BD3: =AU3 -> 2030 | BE3: =AV3 -> 2031 | BG3: =AX3 -> 2024 | BH3: =AY3 -> 2025 | BI3: =AZ3 -> 2026 | BJ3: =BA3 -> 2027 | BK3: =BB3 -> 2028 | BL3: =BC3 -> 2029 | BM3: =BD3 -> 2030 | BN3: =BE3 -> 2031 | BP3: =BG3 -> 2024 | BQ3: =BH3 -> 2025 | BR3: =BI3 -> 2026 | BS3: =BJ3 -> 2027 | BT3: =BK3 -> 2028 | BU3: =BL3 -> 2029 | BV3: =BM3 -> 2030 | BW3: =BN3 -> 2031
A4: MSCA - Fellow | L4: =SUM(D4:K4) -> 0 | AC4: =B4 -> 0 | AD4: =AC4*Tabeller!I33 -> 0 | AE4: =IFERROR(AC4*(Tabeller!$I$33)*Tabeller!$L$23,"") -> 0 | AF4: =IFERROR(AD4*Tabeller!$M$24,"") -> 0 | AG4: =IFERROR(AD4*Tabeller!$M$26,"") -> 0 | AH4: =IFERROR(AD4*Tabeller!$M$25,"") -> 0 | AI4: =SUM(AE4:AH4) -> 0 | AJ4: =AI4/12 -> 0 | AK4: =AI4+(IF(A4="Teknisk adm bistand",Registrering!$D$29,Registrering!$C$29)) -> 465000 | AL4: =AK4/Tabeller!$H$3 -> 285.62654 | AO4: =((D4*Budsjett!$AJ4)) -> 0 | AP4: =((E4*Budsjett!$AJ4)*(Tabeller!J$33)) -> 0 | AQ4: =((F4*Budsjett!$AJ4)*(Tabeller!K$33)) -> 0 | AR4: =((G4*Budsjett!$AJ4)*(Tabeller!L$33)) -> 0 | AS4: =((H4*Budsjett!$AJ4)*(Tabeller!M$33)) -> 0 | AT4: =((I4*Budsjett!$AJ4)*(Tabeller!N$33)) -> 0 | AU4: =((J4*Budsjett!$AJ4)*(Tabeller!O$33)) -> 0 | AV4: =((K4*Budsjett!$AJ4)*(Tabeller!P$33)) -> 0 | AX4: =Tabeller!J8/12*Budsjett!D4 -> 0 | AY4: =Tabeller!K8/12*Budsjett!E4 -> 0 | AZ4: =Tabeller!L8/12*Budsjett!F4 -> 0 | BA4: =Tabeller!M8/12*Budsjett!G4 -> 0 | BB4: =Tabeller!N8/12*Budsjett!H4 -> 0 | BC4: =Tabeller!O8/12*Budsjett!I4 -> 0 | BD4: =Tabeller!P8/12*Budsjett!J4 -> 0 | BE4: =Tabeller!Q8/12*Budsjett!K4 -> 0 | BG4: 0 | BH4: 0 | BI4: 0 | BJ4: 0 | BK4: 0 | BL4: 0 | BM4: 0 | BN4: 0 | BP4: =AX4-BG4 -> 0 | BQ4: =AY4-BH4 -> 0 | BR4: =AZ4-BI4 -> 0 | BS4: =BA4-BJ4 -> 0 | BT4: =BB4-BK4 -> 0 | BU4: =BC4-BL4 -> 0 | BV4: =BD4-BM4 -> 0 | BW4: =BE4-BN4 -> 0
B5: 63 | L5: =SUM(D5:F5) -> 0 | M5: =SUM(AO5:AQ5) -> 0 | N5: =IFERROR(SUM(AX5:AZ5),0) -> 0 | O5: =SUM(M5:N5) -> 0 | AB5: =B5 -> 63 | AC5: =IF(Budsjett!B5>0,LOOKUP(Budsjett!B5,Tabeller!$A$4:$B$200),LOOKUP(AB5,Tabeller!$A$4:$B$200)) -> 615700 | AD5: =AC5*Tabeller!$I$33 -> 645869.3 | AE5: =AC5*(Tabeller!$I$33)*Tabeller!$L$23 -> 583203.27 | AF5: =AD5*Tabeller!$M$24 -> 69654.855 | AG5: =AD5*Tabeller!$L$26 -> 104199.76 | AH5: =AD5*Tabeller!$L$25 -> 85817.741 | AI5: =SUM(AE5:AH5) -> 842875.63 | AK5: =AI5+(IF(A5="Teknisk adm bistand",Registrering!$D$29,Registrering!$C$29)) -> 1307875.6 | AL5: =AK5/Tabeller!$H$3 -> 803.36341 | AO5: =((D5*Budsjett!$AI5)) -> 0 | AP5: =((E5*Budsjett!$AI5)*(Tabeller!J$33)) -> 0 | AQ5: =((F5*Budsjett!$AI5)*(Tabeller!K$33)) -> 0 | AX5: =IFERROR(AO5*Budsjett!$D$47,0) -> 0 | AY5: =IFERROR(AP5*Budsjett!$D$47,0) -> 0 | AZ5: =IFERROR(AQ5*Budsjett!$D$47,0) -> 0 | BC5: =IFERROR(IF($D$48=$M$48,AO5*AX$46,AO5*Budsjett!$D$48),0) -> 0 | BD5: =IFERROR(IF($D$48=$M$48,AP5*AY$46,AP5*Budsjett!$D$48),0) -> 0 | BE5: =IFERROR(IF($D$48=$M$48,AQ5*AZ$46,AQ5*Budsjett!$D$48),0) -> 0 | BJ5: =AX5-BC5 -> 0 | BK5: =AY5-BD5 -> 0 | BL5: =AZ5-BE5 -> 0
B6: 63 | L6: =SUM(D6:F6) -> 0 | M6: =SUM(AO6:AQ6) -> 0 | N6: =IFERROR(SUM(AX6:AZ6),0) -> 0 | O6: =SUM(M6:N6) -> 0 | AB6: =B6 -> 63 | AC6: =IF(Budsjett!B6>0,LOOKUP(Budsjett!B6,Tabeller!$A$4:$B$200),LOOKUP(AB6,Tabeller!$A$4:$B$200)) -> 615700 | AD6: =AC6*Tabeller!$I$33 -> 645869.3 | AE6: =AC6*(Tabeller!$I$33)*Tabeller!$L$23 -> 583203.27 | AF6: =AD6*Tabeller!$M$24 -> 69654.855 | AG6: =AD6*Tabeller!$L$26 -> 104199.76 | AH6: =AD6*Tabeller!$L$25 -> 85817.741 | AI6: =SUM(AE6:AH6) -> 842875.63 | AK6: =AI6+(IF(A6="Teknisk adm bistand",Registrering!$D$29,Registrering!$C$29)) -> 1307875.6 | AL6: =AK6/Tabeller!$H$3 -> 803.36341 | AO6: =((D6*Budsjett!$AI6)) -> 0 | AP6: =((E6*Budsjett!$AI6)*(Tabeller!J$33)) -> 0 | AQ6: =((F6*Budsjett!$AI6)*(Tabeller!K$33)) -> 0 | AX6: =IFERROR(AO6*Budsjett!$D$47,0) -> 0 | AY6: =IFERROR(AP6*Budsjett!$D$47,0) -> 0 | AZ6: =IFERROR(AQ6*Budsjett!$D$47,0) -> 0 | BC6: =IFERROR(IF($D$48=$M$48,AO6*AX$46,AO6*Budsjett!$D$48),0) -> 0 | BD6: =IFERROR(IF($D$48=$M$48,AP6*AY$46,AP6*Budsjett!$D$48),0) -> 0 | BE6: =IFERROR(IF($D$48=$M$48,AQ6*AZ$46,AQ6*Budsjett!$D$48),0) -> 0 | BJ6: =AX6-BC6 -> 0 | BK6: =AY6-BD6 -> 0 | BL6: =AZ6-BE6 -> 0
B7: 80 | L7: =SUM(D7:F7) -> 0 | M7: =SUM(AO7:AQ7) -> 0 | N7: =IFERROR(SUM(AX7:AZ7),0) -> 0 | O7: =SUM(M7:N7) -> 0 | AB7: =B7 -> 80 | AC7: =IF(Budsjett!B7>0,LOOKUP(Budsjett!B7,Tabeller!$A$4:$B$200),LOOKUP(AB7,Tabeller!$A$4:$B$200)) -> 870900 | AD7: =AC7*Tabeller!$I$33 -> 913574.1 | AE7: =AC7*(Tabeller!$I$33)*Tabeller!$L$23 -> 824933.78 | AF7: =AD7*Tabeller!$M$24 -> 98525.928 | AG7: =AD7*Tabeller!$L$26 -> 147389.27 | AH7: =AD7*Tabeller!$L$25 -> 121388.13 | AI7: =SUM(AE7:AH7) -> 1192237.1 | AK7: =AI7+(IF(A7="Teknisk adm bistand",Registrering!$D$29,Registrering!$C$29)) -> 1657237.1 | AL7: =AK7/Tabeller!$H$3 -> 1017.9589 | AO7: =((D7*Budsjett!$AI7)) -> 0 | AP7: =((E7*Budsjett!$AI7)*(Tabeller!J$33)) -> 0 | AQ7: =((F7*Budsjett!$AI7)*(Tabeller!K$33)) -> 0 | AX7: =IFERROR(AO7*Budsjett!$D$47,0) -> 0 | AY7: =IFERROR(AP7*Budsjett!$D$47,0) -> 0 | AZ7: =IFERROR(AQ7*Budsjett!$D$47,0) -> 0 | BC7: =IFERROR(IF($D$48=$M$48,AO7*AX$46,AO7*Budsjett!$D$48),0) -> 0 | BD7: =IFERROR(IF($D$48=$M$48,AP7*AY$46,AP7*Budsjett!$D$48),0) -> 0 | BE7: =IFERROR(IF($D$48=$M$48,AQ7*AZ$46,AQ7*Budsjett!$D$48),0) -> 0 | BJ7: =AX7-BC7 -> 0 | BK7: =AY7-BD7 -> 0 | BL7: =AZ7-BE7 -> 0
B8: 57 | L8: =SUM(D8:F8) -> 0 | M8: =SUM(AO8:AQ8) -> 0 | N8: =IFERROR(SUM(AX8:AZ8),0) -> 0 | O8: =SUM(M8:N8) -> 0 | AB8: =B8 -> 57 | AC8: =IF(Budsjett!B8>0,LOOKUP(Budsjett!B8,Tabeller!$A$4:$B$200),LOOKUP(AB8,Tabeller!$A$4:$B$200)) -> 557100 | AD8: =AC8*Tabeller!$I$33 -> 584397.9 | AE8: =AC8*(Tabeller!$I$33)*Tabeller!$L$23 -> 527696.19 | AF8: =AD8*Tabeller!$M$24 -> 63025.369 | AG8: =AD8*Tabeller!$L$26 -> 94282.423 | AH8: =AD8*Tabeller!$L$25 -> 77649.933 | AI8: =SUM(AE8:AH8) -> 762653.91 | AK8: =AI8+(IF(A8="Teknisk adm bistand",Registrering!$D$29,Registrering!$C$29)) -> 1227653.9 | AL8: =AK8/Tabeller!$H$3 -> 754.08717 | AO8: =((D8*Budsjett!$AI8)) -> 0 | AP8: =((E8*Budsjett!$AI8)*(Tabeller!J$33)) -> 0 | AQ8: =((F8*Budsjett!$AI8)*(Tabeller!K$33)) -> 0 | AX8: =IFERROR(AO8*Budsjett!$D$47,0) -> 0 | AY8: =IFERROR(AP8*Budsjett!$D$47,0) -> 0 | AZ8: =IFERROR(AQ8*Budsjett!$D$47,0) -> 0 | BC8: =IFERROR(IF($D$48=$M$48,AO8*AX$46,AO8*Budsjett!$D$48),0) -> 0 | BD8: =IFERROR(IF($D$48=$M$48,AP8*AY$46,AP8*Budsjett!$D$48),0) -> 0 | BE8: =IFERROR(IF($D$48=$M$48,AQ8*AZ$46,AQ8*Budsjett!$D$48),0) -> 0 | BJ8: =AX8-BC8 -> 0 | BK8: =AY8-BD8 -> 0 | BL8: =AZ8-BE8 -> 0
B9: 55 | L9: =SUM(D9:F9) -> 0 | M9: =SUM(AO9:AQ9) -> 0 | N9: =IFERROR(SUM(AX9:AZ9),0) -> 0 | O9: =SUM(M9:N9) -> 0 | AB9: =B9 -> 55 | AC9: =IF(Budsjett!B9>0,LOOKUP(Budsjett!B9,Tabeller!$A$4:$B$200),LOOKUP(AB9,Tabeller!$A$4:$B$200)) -> 540500 | AD9: =AC9*Tabeller!$I$33 -> 566984.5 | AE9: =AC9*(Tabeller!$I$33)*Tabeller!$L$23 -> 511972.34 | AF9: =AD9*Tabeller!$M$24 -> 61147.392 | AG9: =AD9*Tabeller!$L$26 -> 91473.074 | AH9: =AD9*Tabeller!$L$25 -> 75336.185 | AI9: =SUM(AE9:AH9) -> 739928.99 | AK9: =AI9+(IF(A9="Teknisk adm bistand",Registrering!$D$29,Registrering!$C$29)) -> 1204929 | AL9: =AK9/Tabeller!$H$3 -> 740.12837 | AO9: =((D9*Budsjett!$AI9)) -> 0 | AP9: =((E9*Budsjett!$AI9)*(Tabeller!J$33)) -> 0 | AQ9: =((F9*Budsjett!$AI9)*(Tabeller!K$33)) -> 0 | AX9: =IFERROR(AO9*Budsjett!$D$47,0) -> 0 | AY9: =IFERROR(AP9*Budsjett!$D$47,0) -> 0 | AZ9: =IFERROR(AQ9*Budsjett!$D$47,0) -> 0 | BC9: =IFERROR(IF($D$48=$M$48,AO9*AX$46,AO9*Budsjett!$D$48),0) -> 0 | BD9: =IFERROR(IF($D$48=$M$48,AP9*AY$46,AP9*Budsjett!$D$48),0) -> 0 | BE9: =IFERROR(IF($D$48=$M$48,AQ9*AZ$46,AQ9*Budsjett!$D$48),0) -> 0 | BJ9: =AX9-BC9 -> 0 | BK9: =AY9-BD9 -> 0 | BL9: =AZ9-BE9 -> 0
B10: 55 | L10: =SUM(D10:F10) -> 0 | M10: =SUM(AO10:AQ10) -> 0 | N10: =IFERROR(SUM(AX10:AZ10),0) -> 0 | O10: =SUM(M10:N10) -> 0 | AB10: =B10 -> 55 | AC10: =IF(Budsjett!B10>0,LOOKUP(Budsjett!B10,Tabeller!$A$4:$B$200),LOOKUP(AB10,Tabeller!$A$4:$B$200)) -> 540500 | AD10: =AC10*Tabeller!$I$33 -> 566984.5 | AE10: =AC10*(Tabeller!$I$33)*Tabeller!$L$23 -> 511972.34 | AF10: =AD10*Tabeller!$M$24 -> 61147.392 | AG10: =AD10*Tabeller!$L$26 -> 91473.074 | AH10: =AD10*Tabeller!$L$25 -> 75336.185 | AI10: =SUM(AE10:AH10) -> 739928.99 | AK10: =AI10+(IF(A10="Teknisk adm bistand",Registrering!$D$29,Registrering!$C$29)) -> 1204929 | AL10: =AK10/Tabeller!$H$3 -> 740.12837 | AO10: =((D10*Budsjett!$AI10)) -> 0 | AP10: =((E10*Budsjett!$AI10)*(Tabeller!J$33)) -> 0 | AQ10: =((F10*Budsjett!$AI10)*(Tabeller!K$33)) -> 0 | AX10: =IFERROR(AO10*Budsjett!$D$47,0) -> 0 | AY10: =IFERROR(AP10*Budsjett!$D$47,0) -> 0 | AZ10: =IFERROR(AQ10*Budsjett!$D$47,0) -> 0 | BC10: =IFERROR(IF($D$48=$M$48,AO10*AX$46,AO10*Budsjett!$D$48),0) -> 0 | BD10: =IFERROR(IF($D$48=$M$48,AP10*AY$46,AP10*Budsjett!$D$48),0) -> 0 | BE10: =IFERROR(IF($D$48=$M$48,AQ10*AZ$46,AQ10*Budsjett!$D$48),0) -> 0 | BJ10: =AX10-BC10 -> 0 | BK10: =AY10-BD10 -> 0 | BL10: =AZ10-BE10 -> 0
A11: Sum | D11: =SUM(D4:D10) -> 0 | E11: =SUM(E4:E10) -> 0 | F11: =SUM(F4:F10) -> 0 | L11: =SUM(L4:L10) -> 0 | M11: =SUM(M4:M10) -> 0 | N11: =SUM(N4:N10) -> 0 | O11: =SUM(O4:O10) -> 0 | AO11: =SUM(AO4:AO4) -> 0 | AP11: =SUM(AP4:AP10) -> 0 | AQ11: =SUM(AQ4:AQ10) -> 0 | AW11: =SUM(AO11:AQ11) -> 0 | AX11: =SUM(AX4:AX10) -> 0 | AY11: =SUM(AY4:AY10) -> 0 | AZ11: =SUM(AZ4:AZ10) -> 0 | BC11: =SUM(BC4:BC10) -> 0 | BD11: =SUM(BD4:BD10) -> 0 | BE11: =SUM(BE4:BE10) -> 0 | BJ11: =SUM(BJ4:BJ10) -> 0 | BK11: =SUM(BK4:BK10) -> 0 | BL11: =SUM(BL4:BL10) -> 0
A12: Eksisterende ansatte - dekkes av prosjektbevilgning | D12: REGISTRER ÅRSVERK
A13: Frikjøp art 5892 | B13: Ltr | C13: Navn | D13: =D3 -> 2024 | E13: =E3 -> 2025 | F13: =F3 -> 2026 | L13: Sum | M13: Lønn og sos. kostnader | N13: Overhead | O13: Totalt | AB13: Gj.snitt. Ltr | AC13: Bruttolønn | AD13: inkl lønnsv. | AK13: inkl. ind.kost. | AL13: Timesats | AO13: =D13 -> 2024 | AP13: =E13 -> 2025 | AQ13: =F13 -> 2026 | AX13: =AO13 -> 2024 | AY13: =AP13 -> 2025 | AZ13: =AQ13 -> 2026 | BC13: =AX13 -> 2024 | BD13: =AY13 -> 2025 | BE13: =AZ13 -> 2026 | BJ13: =#REF! -> #REF! | BK13: =#REF! -> #REF! | BL13: =#REF! -> #REF!
A14: Prosjektleder/adm.leder | B14: 75 | L14: =SUM(D14:F14) -> 0 | M14: =SUM(AO14:AQ14) -> 0 | N14: =IFERROR(SUM(AX14:AZ14),0) -> 0 | O14: =SUM(M14:N14) -> 0 | AB14: =B14 -> 75 | AC14: =IF(Budsjett!B14>0,LOOKUP(Budsjett!B14,Tabeller!$A$4:$B$200),LOOKUP(AB14,Tabeller!$A$4:$B$200)) -> 759100 | AD14: =AC14*Tabeller!$I$33 -> 796295.9 | AK14: =AI14+(IF(A14="Teknisk adm bistand",Registrering!$D$29,Registrering!$C$29)) -> 465000 | AL14: =AK14/Tabeller!$H$3 -> 285.62654 | AO14: =((D14*Budsjett!$AI14)) -> 0 | AP14: =((E14*Budsjett!$AI14)*(Tabeller!J$33)) -> 0 | AQ14: =((F14*Budsjett!$AI14)*(Tabeller!K$33)) -> 0 | AX14: =IFERROR(AO14*Budsjett!$D$47,0) -> 0 | AY14: =IFERROR(AP14*Budsjett!$D$47,0) -> 0 | AZ14: =IFERROR(AQ14*Budsjett!$D$47,0) -> 0 | BC14: =IFERROR(IF($D$48=$M$48,AO14*AX$46,AO14*Budsjett!$D$48),0) -> 0 | BD14: =IFERROR(IF($D$48=$M$48,AP14*AY$46,AP14*Budsjett!$D$48),0) -> 0 | BE14: =IFERROR(IF($D$48=$M$48,AQ14*AZ$46,AQ14*Budsjett!$D$48),0) -> 0 | BJ14: =AX14-BC14 -> 0 | BK14: =AY14-BD14 -> 0 | BL14: =AZ14-BE14 -> 0
A15: Forsker - professor | B15: 73 | L15: =SUM(D15:F15) -> 0 | M15: =SUM(AO15:AQ15) -> 0 | N15: =IFERROR(SUM(AX15:AZ15),0) -> 0 | O15: =SUM(M15:N15) -> 0 | R15: =D42 -> 0 | S15: hvor mye skal til kanditat pga høy Eu-kurs, hva er tilgengelig for indikre kostnad/drift | AB15: =B15 -> 73 | AC15: =IF(Budsjett!B15>0,LOOKUP(Budsjett!B15,Tabeller!$A$4:$B$200),LOOKUP(AB15,Tabeller!$A$4:$B$200)) -> 732300 | AD15: =AC15*Tabeller!$I$33 -> 768182.7 | AK15: =AI15+(IF(A15="Teknisk adm bistand",Registrering!$D$29,Registrering!$C$29)) -> 465000 | AL15: =AK15/Tabeller!$H$3 -> 285.62654 | AO15: =((D15*Budsjett!$AI15)) -> 0 | AP15: =((E15*Budsjett!$AI15)*(Tabeller!J$33)) -> 0 | AQ15: =((F15*Budsjett!$AI15)*(Tabeller!K$33)) -> 0 | AX15: =IFERROR(AO15*Budsjett!$D$47,0) -> 0 | AY15: =IFERROR(AP15*Budsjett!$D$47,0) -> 0 | AZ15: =IFERROR(AQ15*Budsjett!$D$47,0) -> 0 | BC15: =IFERROR(IF($D$48=$M$48,AO15*AX$46,AO15*Budsjett!$D$48),0) -> 0 | BD15: =IFERROR(IF($D$48=$M$48,AP15*AY$46,AP15*Budsjett!$D$48),0) -> 0 | BE15: =IFERROR(IF($D$48=$M$48,AQ15*AZ$46,AQ15*Budsjett!$D$48),0) -> 0 | BJ15: =AX15-BC15 -> 0 | BK15: =AY15-BD15 -> 0 | BL15: =AZ15-BE15 -> 0
A16: Forsker - 1.aman. | B16: 63 | L16: =SUM(D16:F16) -> 0 | M16: =SUM(AO16:AQ16) -> 0 | N16: =IFERROR(SUM(AX16:AZ16),0) -> 0 | O16: =SUM(M16:N16) -> 0 | R16: =M4+O40 -> 0 | AB16: =B16 -> 63 | AC16: =IF(Budsjett!B16>0,LOOKUP(Budsjett!B16,Tabeller!$A$4:$B$200),LOOKUP(AB16,Tabeller!$A$4:$B$200)) -> 615700 | AD16: =AC16*Tabeller!$I$33 -> 645869.3 | AK16: =AI16+(IF(A16="Teknisk adm bistand",Registrering!$D$29,Registrering!$C$29)) -> 465000 | AL16: =AK16/Tabeller!$H$3 -> 285.62654 | AO16: =((D16*Budsjett!$AI16)) -> 0 | AP16: =((E16*Budsjett!$AI16)*(Tabeller!J$33)) -> 0 | AQ16: =((F16*Budsjett!$AI16)*(Tabeller!K$33)) -> 0 | AX16: =IFERROR(AO16*Budsjett!$D$47,0) -> 0 | AY16: =IFERROR(AP16*Budsjett!$D$47,0) -> 0 | AZ16: =IFERROR(AQ16*Budsjett!$D$47,0) -> 0 | BC16: =IFERROR(IF($D$48=$M$48,AO16*AX$46,AO16*Budsjett!$D$48),0) -> 0 | BD16: =IFERROR(IF($D$48=$M$48,AP16*AY$46,AP16*Budsjett!$D$48),0) -> 0 | BE16: =IFERROR(IF($D$48=$M$48,AQ16*AZ$46,AQ16*Budsjett!$D$48),0) -> 0 | BJ16: =AX16-BC16 -> 0 | BK16: =AY16-BD16 -> 0 | BL16: =AZ16-BE16 -> 0
A17: Forsker (rundsum) | B17: 63 | L17: =SUM(D17:F17) -> 0 | M17: =SUM(AO17:AQ17) -> 0 | N17: =IFERROR(SUM(AX17:AZ17),0) -> 0 | O17: =SUM(M17:N17) -> 0 | AB17: =B17 -> 63 | AC17: =IF(Budsjett!B17>0,LOOKUP(Budsjett!B17,Tabeller!$A$4:$B$200),LOOKUP(AB17,Tabeller!$A$4:$B$200)) -> 615700 | AD17: =AC17*Tabeller!$I$33 -> 645869.3 | AK17: =AI17+(IF(A17="Teknisk adm bistand",Registrering!$D$29,Registrering!$C$29)) -> 465000 | AL17: =AK17/Tabeller!$H$3 -> 285.62654 | AO17: =((D17*Budsjett!$AI17)) -> 0 | AP17: =((E17*Budsjett!$AI17)*(Tabeller!J$33)) -> 0 | AQ17: =((F17*Budsjett!$AI17)*(Tabeller!K$33)) -> 0 | AX17: =IFERROR(AO17*Budsjett!$D$47,0) -> 0 | AY17: =IFERROR(AP17*Budsjett!$D$47,0) -> 0 | AZ17: =IFERROR(AQ17*Budsjett!$D$47,0) -> 0 | BC17: =IFERROR(IF($D$48=$M$48,AO17*AX$46,AO17*Budsjett!$D$48),0) -> 0 | BD17: =IFERROR(IF($D$48=$M$48,AP17*AY$46,AP17*Budsjett!$D$48),0) -> 0 | BE17: =IFERROR(IF($D$48=$M$48,AQ17*AZ$46,AQ17*Budsjett!$D$48),0) -> 0 | BJ17: =AX17-BC17 -> 0 | BK17: =AY17-BD17 -> 0 | BL17: =AZ17-BE17 -> 0
A18: Gjesteforsker | B18: 57 | L18: =SUM(D18:F18) -> 0 | M18: =SUM(AO18:AQ18) -> 0 | N18: =IFERROR(SUM(AX18:AZ18),0) -> 0 | O18: =SUM(M18:N18) -> 0 | AB18: =B18 -> 57 | AC18: =IF(Budsjett!B18>0,LOOKUP(Budsjett!B18,Tabeller!$A$4:$B$200),LOOKUP(AB18,Tabeller!$A$4:$B$200)) -> 557100 | AD18: =AC18*Tabeller!$I$33 -> 584397.9 | AK18: =AI18+(IF(A18="Teknisk adm bistand",Registrering!$D$29,Registrering!$C$29)) -> 465000 | AL18: =AK18/Tabeller!$H$3 -> 285.62654 | AO18: =((D18*Budsjett!$AI18)) -> 0 | AP18: =((E18*Budsjett!$AI18)*(Tabeller!J$33)) -> 0 | AQ18: =((F18*Budsjett!$AI18)*(Tabeller!K$33)) -> 0 | AX18: =IFERROR(AO18*Budsjett!$D$47,0) -> 0 | AY18: =IFERROR(AP18*Budsjett!$D$47,0) -> 0 | AZ18: =IFERROR(AQ18*Budsjett!$D$47,0) -> 0 | BC18: =IFERROR(IF($D$48=$M$48,AO18*AX$46,AO18*Budsjett!$D$48),0) -> 0 | BD18: =IFERROR(IF($D$48=$M$48,AP18*AY$46,AP18*Budsjett!$D$48),0) -> 0 | BE18: =IFERROR(IF($D$48=$M$48,AQ18*AZ$46,AQ18*Budsjett!$D$48),0) -> 0 | BJ18: =AX18-BC18 -> 0 | BK18: =AY18-BD18 -> 0 | BL18: =AZ18-BE18 -> 0
A19: Sum | D19: =SUM(D14:D18) -> 0 | E19: =SUM(E14:E18) -> 0 | F19: =SUM(F14:F18) -> 0 | L19: =SUM(L14:L18) -> 0 | M19: =SUM(M14:M18) -> 0 | N19: =SUM(N14:N18) -> 0 | O19: =SUM(O14:O18) -> 0 | AO19: =SUM(AO14:AO18) -> 0 | AP19: =SUM(AP14:AP18) -> 0 | AQ19: =SUM(AQ14:AQ18) -> 0 | AW19: =SUM(AO19:AQ19) -> 0 | AX19: =SUM(AX14:AX18) -> 0 | AY19: =SUM(AY14:AY18) -> 0 | AZ19: =SUM(AZ14:AZ18) -> 0 | BC19: =SUM(BC14:BC18) -> 0 | BD19: =SUM(BD14:BD18) -> 0 | BE19: =SUM(BE14:BE18) -> 0 | BJ19: =SUM(BJ14:BJ18) -> 0 | BK19: =SUM(BK14:BK18) -> 0 | BL19: =SUM(BL14:BL18) -> 0
A20: Eksisterende ansatte - dekkes av UiO (egenandel) | D20: REGISTRER ÅRSVERK
A21: Frikjøp art 5896 | B21: Ltr | C21: Navn | D21: =D13 -> 2024 | E21: =E13 -> 2025 | F21: =F13 -> 2026 | L21: Sum | M21: Lønn og sos. kostnader | N21: Overhead | O21: Totalt | AB21: Gj.snitt. Ltr | AC21: Bruttolønn | AD21: inkl lønnsv. | AK21: inkl. ind.kost. | AL21: Timesats | AO21: =D21 -> 2024 | AP21: =E21 -> 2025 | AQ21: =F21 -> 2026 | AX21: =AO21 -> 2024 | AY21: =AP21 -> 2025 | AZ21: =AQ21 -> 2026 | BC21: =AX21 -> 2024 | BD21: =AY21 -> 2025 | BE21: =AZ21 -> 2026 | BJ21: =#REF! -> #REF! | BK21: =#REF! -> #REF! | BL21: =#REF! -> #REF!
A22: Prosjektleder/adm.leder | B22: 80 | L22: =SUM(D22:F22) -> 0 | M22: =SUM(AO22:AQ22) -> 0 | N22: =IFERROR(SUM(AX22:AZ22),0) -> 0 | O22: =SUM(M22:N22) -> 0 | AB22: =B22 -> 80 | AC22: =IF(Budsjett!B22>0,LOOKUP(Budsjett!B22,Tabeller!$A$4:$B$200),LOOKUP(AB22,Tabeller!$A$4:$B$200)) -> 870900 | AD22: =AC22*Tabeller!$I$33 -> 913574.1 | AK22: =AI22+(IF(A22="Teknisk adm bistand",Registrering!$D$29,Registrering!$C$29)) -> 465000 | AL22: =AK22/Tabeller!$H$3 -> 285.62654 | AO22: =((D22*Budsjett!$AI22)) -> 0 | AP22: =((E22*Budsjett!$AI22)*(Tabeller!J$33)) -> 0 | AQ22: =((F22*Budsjett!$AI22)*(Tabeller!K$33)) -> 0 | AX22: =IFERROR(AO22*Budsjett!$D$47,0) -> 0 | AY22: =IFERROR(AP22*Budsjett!$D$47,0) -> 0 | AZ22: =IFERROR(AQ22*Budsjett!$D$47,0) -> 0 | BJ22: =AX22 -> 0 | BK22: =AY22 -> 0 | BL22: =AZ22 -> 0
A23: Teknisk adm bistand | B23: 73 | L23: =SUM(D23:F23) -> 0 | M23: =SUM(AO23:AQ23) -> 0 | N23: =IFERROR(SUM(AX23:AZ23),0) -> 0 | O23: =SUM(M23:N23) -> 0 | AB23: =B23 -> 73 | AC23: =IF(Budsjett!B23>0,LOOKUP(Budsjett!B23,Tabeller!$A$4:$B$200),LOOKUP(AB23,Tabeller!$A$4:$B$200)) -> 732300 | AD23: =AC23*Tabeller!$I$33 -> 768182.7 | AK23: =AI23+(IF(A23="Teknisk adm bistand",Registrering!$D$29,Registrering!$C$29)) -> 142000 | AL23: =AK23/Tabeller!$H$3 -> 87.223587 | AO23: =((D23*Budsjett!$AI23)) -> 0 | AP23: =((E23*Budsjett!$AI23)*(Tabeller!J$33)) -> 0 | AQ23: =((F23*Budsjett!$AI23)*(Tabeller!K$33)) -> 0 | AX23: =IFERROR(AO23*Budsjett!$D$47,0) -> 0 | AY23: =IFERROR(AP23*Budsjett!$D$47,0) -> 0 | AZ23: =IFERROR(AQ23*Budsjett!$D$47,0) -> 0 | BJ23: =AX23 -> 0 | BK23: =AY23 -> 0 | BL23: =AZ23 -> 0
A24: Forsker - 1.aman. | B24: 63 | L24: =SUM(D24:F24) -> 0 | M24: =SUM(AO24:AQ24) -> 0 | N24: =IFERROR(SUM(AX24:AZ24),0) -> 0 | O24: =SUM(M24:N24) -> 0 | AB24: =B24 -> 63 | AC24: =IF(Budsjett!B24>0,LOOKUP(Budsjett!B24,Tabeller!$A$4:$B$200),LOOKUP(AB24,Tabeller!$A$4:$B$200)) -> 615700 | AD24: =AC24*Tabeller!$I$33 -> 645869.3 | AK24: =AI24+(IF(A24="Teknisk adm bistand",Registrering!$D$29,Registrering!$C$29)) -> 465000 | AL24: =AK24/Tabeller!$H$3 -> 285.62654 | AO24: =((D24*Budsjett!$AI24)) -> 0 | AP24: =((E24*Budsjett!$AI24)*(Tabeller!J$33)) -> 0 | AQ24: =((F24*Budsjett!$AI24)*(Tabeller!K$33)) -> 0 | AX24: =IFERROR(AO24*Budsjett!$D$47,0) -> 0 | AY24: =IFERROR(AP24*Budsjett!$D$47,0) -> 0 | AZ24: =IFERROR(AQ24*Budsjett!$D$47,0) -> 0 | BJ24: =AX24 -> 0 | BK24: =AY24 -> 0 | BL24: =AZ24 -> 0
A25: Teknisk adm bistand | B25: 50 | L25: =SUM(D25:F25) -> 0 | M25: =SUM(AO25:AQ25) -> 0 | N25: =IFERROR(SUM(AX25:AZ25),0) -> 0 | O25: =SUM(M25:N25) -> 0 | AB25: =B25 -> 50 | AC25: =IF(Budsjett!B25>0,LOOKUP(Budsjett!B25,Tabeller!$A$4:$B$200),LOOKUP(AB25,Tabeller!$A$4:$B$200)) -> 502300 | AD25: =AC25*Tabeller!$I$33 -> 526912.7 | AK25: =AI25+(IF(A25="Teknisk adm bistand",Registrering!$D$29,Registrering!$C$29)) -> 142000 | AL25: =AK25/Tabeller!$H$3 -> 87.223587 | AO25: =((D25*Budsjett!$AI25)) -> 0 | AP25: =((E25*Budsjett!$AI25)*(Tabeller!J$33)) -> 0 | AQ25: =((F25*Budsjett!$AI25)*(Tabeller!K$33)) -> 0 | AX25: =IFERROR(AO25*Budsjett!$D$47,0) -> 0 | AY25: =IFERROR(AP25*Budsjett!$D$47,0) -> 0 | AZ25: =IFERROR(AQ25*Budsjett!$D$47,0) -> 0 | BJ25: =AX25 -> 0 | BK25: =AY25 -> 0 | BL25: =AZ25 -> 0
A26: Diverse vitenskapelig ansatte | B26: 55 | L26: =SUM(D26:F26) -> 0 | M26: =SUM(AO26:AQ26) -> 0 | N26: =IFERROR(SUM(AX26:AZ26),0) -> 0 | O26: =SUM(M26:N26) -> 0 | AB26: =B26 -> 55 | AC26: =IF(Budsjett!B26>0,LOOKUP(Budsjett!B26,Tabeller!$A$4:$B$200),LOOKUP(AB26,Tabeller!$A$4:$B$200)) -> 540500 | AD26: =AC26*Tabeller!$I$33 -> 566984.5 | AK26: =AI26+(IF(A26="Teknisk adm bistand",Registrering!$D$29,Registrering!$C$29)) -> 465000 | AL26: =AK26/Tabeller!$H$3 -> 285.62654 | AO26: =((D26*Budsjett!$AI26)) -> 0 | AP26: =((E26*Budsjett!$AI26)*(Tabeller!J$33)) -> 0 | AQ26: =((F26*Budsjett!$AI26)*(Tabeller!K$33)) -> 0 | AX26: =IFERROR(AO26*Budsjett!$D$47,0) -> 0 | AY26: =IFERROR(AP26*Budsjett!$D$47,0) -> 0 | AZ26: =IFERROR(AQ26*Budsjett!$D$47,0) -> 0 | BJ26: =AX26 -> 0 | BK26: =AY26 -> 0 | BL26: =AZ26 -> 0
A27: Sum | D27: =SUM(D22:D26) -> 0 | E27: =SUM(E22:E26) -> 0 | F27: =SUM(F22:F26) -> 0 | L27: =SUM(L22:L26) -> 0 | M27: =SUM(M22:M26) -> 0 | N27: =SUM(N22:N26) -> 0 | O27: =SUM(O22:O26) -> 0 | AO27: =SUM(AO22:AO26) -> 0 | AP27: =SUM(AP22:AP26) -> 0 | AQ27: =SUM(AQ22:AQ26) -> 0 | AW27: =SUM(AO27:AQ27) -> 0 | AX27: =SUM(AX22:AX26) -> 0 | AY27: =SUM(AY22:AY26) -> 0 | AZ27: =SUM(AZ22:AZ26) -> 0 | BC27: =SUM(BC22:BC26) -> 0 | BD27: =SUM(BD22:BD26) -> 0 | BE27: =SUM(BE22:BE26) -> 0 | BJ27: =SUM(BJ22:BJ26) -> 0 | BK27: =SUM(BK22:BK26) -> 0 | BL27: =SUM(BL22:BL26) -> 0
A28: Timelønn - dekkes av prosjektbevilgning | D28: REGISTRER TIMER
B29: Ltr | C29: Navn | D29: =D21 -> 2024 | E29: =E21 -> 2025 | F29: =F21 -> 2026 | L29: Sum | M29: Beløp | N29: Overhead | O29: Totalt | AB29: Gj.snitt. Ltr | AC29: Bruttolønn | AD29: inkl lønnsv. | AK29: inkl. ind.kost. | AO29: =D29 -> 2024 | AP29: =E29 -> 2025 | AQ29: =F29 -> 2026 | AX29: =AO29 -> 2024 | AY29: =AP29 -> 2025 | AZ29: =AQ29 -> 2026 | BC29: =AX29 -> 2024 | BD29: =AY29 -> 2025 | BE29: =AZ29 -> 2026 | BJ29: =#REF! -> #REF! | BK29: =#REF! -> #REF! | BL29: =#REF! -> #REF!
A30: Timebasert lønn | B30: 50 | L30: =SUM(D30:F30) -> 0 | M30: =SUM(AO30:AQ30) -> 0 | N30: =IFERROR(SUM(AX30:AZ30),0) -> 0 | O30: =SUM(M30:N30) -> 0 | AB30: =B30 -> 50 | AC30: =IF(Budsjett!B30>0,LOOKUP(Budsjett!B30,Tabeller!$C$4:$D$200),LOOKUP(AB30,Tabeller!$A$4:$B$200)) -> 226.66667 | AD30: =AC30*Tabeller!$I$33 -> 237.77333 | AK30: =AI30+(Registrering!$C$29/Tabeller!$H$3) -> 285.62654 | AO30: =((D30*Budsjett!$AI30)*(Tabeller!I$35)) -> 0 | AP30: =((E30*Budsjett!$AI30)*(Tabeller!J$33)) -> 0 | AQ30: =((F30*Budsjett!$AI30)*(Tabeller!K$33)) -> 0 | AX30: =IFERROR(AO30*Budsjett!$D$47,0) -> 0 | AY30: =IFERROR(AP30*Budsjett!$D$47,0) -> 0 | AZ30: =IFERROR(AQ30*Budsjett!$D$47,0) -> 0 | BC30: =IFERROR(IF($D$48=$M$48,AO30*AX$46,AO30*Budsjett!$D$48),0) -> 0 | BD30: =IFERROR(IF($D$48=$M$48,AP30*AY$46,AP30*Budsjett!$D$48),0) -> 0 | BE30: =IFERROR(IF($D$48=$M$48,AQ30*AZ$46,AQ30*Budsjett!$D$48),0) -> 0 | BJ30: =AX30-BC30 -> 0 | BK30: =AY30-BD30 -> 0 | BL30: =AZ30-BE30 -> 0
A31: Timebasert lønn | B31: 50 | L31: =SUM(D31:F31) -> 0 | M31: =SUM(AO31:AQ31) -> 0 | N31: =IFERROR(SUM(AX31:AZ31),0) -> 0 | O31: =SUM(M31:N31) -> 0 | AB31: =B31 -> 50 | AC31: =IF(Budsjett!B31>0,LOOKUP(Budsjett!B31,Tabeller!$C$4:$D$200),LOOKUP(AB31,Tabeller!$A$4:$B$200)) -> 226.66667 | AD31: =AC31*Tabeller!$I$33 -> 237.77333 | AK31: =AI31+(Registrering!$C$29/Tabeller!$H$3) -> 285.62654 | AO31: =((D31*Budsjett!$AI31)*(Tabeller!I$35)) -> 0 | AP31: =((E31*Budsjett!$AI31)*(Tabeller!J$33)) -> 0 | AQ31: =((F31*Budsjett!$AI31)*(Tabeller!K$33)) -> 0 | AX31: =IFERROR(AO31*Budsjett!$D$47,0) -> 0 | AY31: =IFERROR(AP31*Budsjett!$D$47,0) -> 0 | AZ31: =IFERROR(AQ31*Budsjett!$D$47,0) -> 0 | BC31: =IFERROR(IF($D$48=$M$48,AO31*AX$46,AO31*Budsjett!$D$48),0) -> 0 | BD31: =IFERROR(IF($D$48=$M$48,AP31*AY$46,AP31*Budsjett!$D$48),0) -> 0 | BE31: =IFERROR(IF($D$48=$M$48,AQ31*AZ$46,AQ31*Budsjett!$D$48),0) -> 0 | BJ31: =AX31-BC31 -> 0 | BK31: =AY31-BD31 -> 0 | BL31: =AZ31-BE31 -> 0
A32: Timebasert lønn | B32: 50 | L32: =SUM(D32:F32) -> 0 | M32: =SUM(AO32:AQ32) -> 0 | N32: =IFERROR(SUM(AX32:AZ32),0) -> 0 | O32: =SUM(M32:N32) -> 0 | AB32: =B32 -> 50 | AC32: =IF(Budsjett!B32>0,LOOKUP(Budsjett!B32,Tabeller!$C$4:$D$200),LOOKUP(AB32,Tabeller!$A$4:$B$200)) -> 226.66667 | AD32: =AC32*Tabeller!$I$33 -> 237.77333 | AK32: =AI32+(Registrering!$C$29/Tabeller!$H$3) -> 285.62654 | AO32: =((D32*Budsjett!$AI32)*(Tabeller!I$35)) -> 0 | AP32: =((E32*Budsjett!$AI32)*(Tabeller!J$33)) -> 0 | AQ32: =((F32*Budsjett!$AI32)*(Tabeller!K$33)) -> 0 | AX32: =IFERROR(AO32*Budsjett!$D$47,0) -> 0 | AY32: =IFERROR(AP32*Budsjett!$D$47,0) -> 0 | AZ32: =IFERROR(AQ32*Budsjett!$D$47,0) -> 0 | BC32: =IFERROR(IF($D$48=$M$48,AO32*AX$46,AO32*Budsjett!$D$48),0) -> 0 | BD32: =IFERROR(IF($D$48=$M$48,AP32*AY$46,AP32*Budsjett!$D$48),0) -> 0 | BE32: =IFERROR(IF($D$48=$M$48,AQ32*AZ$46,AQ32*Budsjett!$D$48),0) -> 0 | BJ32: =AX32-BC32 -> 0 | BK32: =AY32-BD32 -> 0 | BL32: =AZ32-BE32 -> 0
A33: Sum | D33: =SUM(D30:D32) -> 0 | E33: =SUM(E30:E32) -> 0 | F33: =SUM(F30:F32) -> 0 | L33: =SUM(L30:L32) -> 0 | M33: =SUM(M30:M32) -> 0 | N33: =SUM(N30:N32) -> 0 | O33: =SUM(O30:O32) -> 0 | AO33: =SUM(AO30:AO32) -> 0 | AP33: =SUM(AP30:AP32) -> 0 | AQ33: =SUM(AQ30:AQ32) -> 0 | AW33: =SUM(AO33:AQ33) -> 0 | AX33: =SUM(AX30:AX32) -> 0 | AY33: =SUM(AY30:AY32) -> 0 | AZ33: =SUM(AZ30:AZ32) -> 0 | BC33: =SUM(BC30:BC32) -> 0 | BD33: =SUM(BD30:BD32) -> 0 | BE33: =SUM(BE30:BE32) -> 0 | BJ33: =SUM(BJ30:BJ32) -> 0 | BK33: =SUM(BK30:BK32) -> 0 | BL33: =SUM(BL30:BL32) -> 0
A34: Lønnskostnad | D34: =IFERROR(AO4,"") -> 0 | E34: =IFERROR(AP4,"") -> 0 | F34: =IFERROR(AQ4,"") -> 0 | G34: =IFERROR(AR4,"") -> 0 | H34: =IFERROR(AS4,"") -> 0 | I34: =IFERROR(AT4,"") -> 0 | J34: =IFERROR(AU4,"") -> 0 | K34: =IFERROR(AV4,"") -> 0 | M34: =SUM(D34:K34) -> 0 | N34: =IFERROR(SUM(AX4:BE4),0) -> 0 | O34: =SUM(M34:N34) -> 0 | AW34: =SUM(AO34:AQ34) -> 0 | BI34: =SUM(AX34:BB34) -> 0
A36: REGISTRER DRIFTSKOSTNADER
A37: =Registrering!A26 -> Family Allowance | D37: ='Finansieringsgrunnlag MSCA'!B6 -> 0 | E37: ='Finansieringsgrunnlag MSCA'!C6 -> 0 | F37: ='Finansieringsgrunnlag MSCA'!D6 -> 0 | G37: ='Finansieringsgrunnlag MSCA'!E6 -> 0 | H37: ='Finansieringsgrunnlag MSCA'!F6 -> 0 | I37: ='Finansieringsgrunnlag MSCA'!G6 -> 0 | J37: ='Finansieringsgrunnlag MSCA'!H6 -> 0 | K37: ='Finansieringsgrunnlag MSCA'!I6 -> 0 | O37: =SUM(AO39:AV39) -> 0
A38: Research, training and networking contribution (Year/Person) | D38: =(IFERROR(VLOOKUP(Registrering!$B$25,'Finansieringsgrunnlag MSCA'!$A$19:$O$20,9,FALSE)*D$4,""))/12 -> 0 | E38: =(IFERROR(VLOOKUP(Registrering!$B$25,'Finansieringsgrunnlag MSCA'!$A$19:$O$20,9,FALSE)*E$4,""))/12 -> 0 | F38: =(IFERROR(VLOOKUP(Registrering!$B$25,'Finansieringsgrunnlag MSCA'!$A$19:$O$20,9,FALSE)*F$4,""))/12 -> 0 | G38: =(IFERROR(VLOOKUP(Registrering!$B$25,'Finansieringsgrunnlag MSCA'!$A$19:$O$20,9,FALSE)*G$4,""))/12 -> 0 | H38: =(IFERROR(VLOOKUP(Registrering!$B$25,'Finansieringsgrunnlag MSCA'!$A$19:$O$20,9,FALSE)*H$4,""))/12 -> 0 | I38: =(IFERROR(VLOOKUP(Registrering!$B$25,'Finansieringsgrunnlag MSCA'!$A$19:$O$20,9,FALSE)*I$4,""))/12 -> 0 | J38: =(IFERROR(VLOOKUP(Registrering!$B$25,'Finansieringsgrunnlag MSCA'!$A$19:$O$20,9,FALSE)*J$4,""))/12 -> 0 | K38: =(IFERROR(VLOOKUP(Registrering!$B$25,'Finansieringsgrunnlag MSCA'!$A$19:$O$20,9,FALSE)*K$4,""))/12 -> 0 | O38: =SUM(AO40:AV40) -> 0
A39: Management & indirect contribution (Year/Person) | D39: =(IFERROR(IF(D4>0,VLOOKUP(Registrering!$B$25,'Finansieringsgrunnlag MSCA'!$A$19:$O$20,11,FALSE)*D$4-Registrering!$B$30,0),""))/12 -> 0 | E39: =(IFERROR(IF(E4>0,VLOOKUP(Registrering!$B$25,'Finansieringsgrunnlag MSCA'!$A$19:$O$20,11,FALSE)*E$4-Registrering!$B$30,0),""))/12 -> 0 | F39: =(IFERROR(IF(F4>0,VLOOKUP(Registrering!$B$25,'Finansieringsgrunnlag MSCA'!$A$19:$O$20,11,FALSE)*F$4-Registrering!$B$30,0),""))/12 -> 0 | G39: =(IFERROR(IF(G4>0,VLOOKUP(Registrering!$B$25,'Finansieringsgrunnlag MSCA'!$A$19:$O$20,11,FALSE)*G$4-Registrering!$B$30,0),""))/12 -> 0 | H39: =(IFERROR(IF(H4>0,VLOOKUP(Registrering!$B$25,'Finansieringsgrunnlag MSCA'!$A$19:$O$20,11,FALSE)*H$4-Registrering!$B$30,0),""))/12 -> 0 | I39: =(IFERROR(IF(I4>0,VLOOKUP(Registrering!$B$25,'Finansieringsgrunnlag MSCA'!$A$19:$O$20,11,FALSE)*I$4-Registrering!$B$30,0),""))/12 -> 0 | J39: =(IFERROR(IF(J4>0,VLOOKUP(Registrering!$B$25,'Finansieringsgrunnlag MSCA'!$A$19:$O$20,11,FALSE)*J$4-Registrering!$B$30,0),""))/12 -> 0 | K39: =(IFERROR(IF(K4>0,VLOOKUP(Registrering!$B$25,'Finansieringsgrunnlag MSCA'!$A$19:$O$20,11,FALSE)*K$4-Registrering!$B$30,0),""))/12 -> 0 | O39: =SUM(AO41:AV41) -> 0 | AO39: ='Finansieringsgrunnlag MSCA'!B6 -> 0 | AP39: ='Finansieringsgrunnlag MSCA'!C6 -> 0 | AQ39: ='Finansieringsgrunnlag MSCA'!D6 -> 0 | AR39: ='Finansieringsgrunnlag MSCA'!E6 -> 0 | AS39: ='Finansieringsgrunnlag MSCA'!F6 -> 0 | AT39: ='Finansieringsgrunnlag MSCA'!G6 -> 0 | AU39: ='Finansieringsgrunnlag MSCA'!H6 -> 0 | AV39: ='Finansieringsgrunnlag MSCA'!I6 -> 0 | AW39: =SUM(AO39:AV39) -> 0
A40: Sum | D40: =SUM(D37:D39) -> 0 | E40: =SUM(E37:E39) -> 0 | F40: =SUM(F37:F39) -> 0 | G40: =SUM(G37:G39) -> 0 | H40: =SUM(H37:H39) -> 0 | I40: =SUM(I37:I39) -> 0 | J40: =SUM(J37:J39) -> 0 | K40: =SUM(K37:K39) -> 0 | O40: =SUM(O37:O39) -> 0 | AO40: =D38 -> 0 | AP40: =E38 -> 0 | AQ40: =F38 -> 0 | AR40: =G38 -> 0 | AS40: =H38 -> 0 | AT40: =I38 -> 0 | AU40: =J38 -> 0 | AV40: =K38 -> 0 | AW40: =SUM(AO40:AV40) -> 0
AO41: =D39 -> 0 | AP41: =E39 -> 0 | AQ41: =F39 -> 0 | AR41: =G39 -> 0 | AS41: =H39 -> 0 | AT41: =I39 -> 0 | AU41: =J39 -> 0 | AV41: =K39 -> 0 | AW41: =SUM(AO41:AV41) -> 0
...

Sheet Leiested
A1: Prosjekttittel: | C1: =IF(Registrering!B4="","",Registrering!B4)
A2: Leiestedskalkyle versjon: | E2: REGISTRER DRIFTSKOSTNADER | I2: Alle beløp angis i hele kroner
B3: Finansiør | D3: Kommentarfelt | E3: =Budsjett!D3 -> 2024 | F3: =E3+1 -> 2025 | G3: =F3+1 -> 2026 | H3: =G3+1 -> 2027 | I3: =H3+1 -> 2028 | J3: =I3+1 -> 2029 | K3: =J3+1 -> 2030 | L3: =K3+1 -> 2031 | M3: =L3+1 -> 2032 | N3: =M3+1 -> 2033 | O3: Totalt
A4: Leiested 1 | O4: =SUM(E4:N4) -> 0
A5: Antall timer/enheter Leiested
A6: Enhetspris Leiested
A7: Leiestedskostnader | B7: NFR | E7: =E5*E6 -> 0 | F7: =F5*F6 -> 0 | G7: =G5*G6 -> 0 | H7: =H5*H6 -> 0 | I7: =I5*I6 -> 0 | J7: =J5*J6 -> 0 | K7: =K5*K6 -> 0 | L7: =L5*L6 -> 0 | ... N7: =N5*N6 -> 0 | O7: =SUM(E7:N7) -> 0
A8: Leiested 2
A9: Antall timer/enheter Leiested
A10: Enhetspris Leiested
A11: Leiestedskostnader | B11: Egenandel | E11: =E9*E10 -> 0 | F11: =F9*F10 -> 0 | G11: =G9*G10 -> 0 | H11: =H9*H10 -> 0 | I11: =I9*I10 -> 0 | J11: =J9*J10 -> 0 | K11: =K9*K10 -> 0 | L11: =L9*L10 -> 0 | ... N11: =N9*N10 -> 0 | O11: =SUM(E11:N11) -> 0
A12: Leiested 3
A13: Antall timer/enheter Leiested
A14: Enhetspris Leiested
A15: Leiestedskostnader | B15: Private | E15: =E13*E14 -> 0 | F15: =F13*F14 -> 0 | G15: =G13*G14 -> 0 | H15: =H13*H14 -> 0 | I15: =I13*I14 -> 0 | J15: =J13*J14 -> 0 | K15: =K13*K14 -> 0 | L15: =L13*L14 -> 0 | ... N15: =N13*N14 -> 0 | O15: =SUM(E15:N15) -> 0
A16: Leiested 4
A17: Antall timer/enheter Leiested
A18: Enhetspris Leiested
A19: Leiestedskostnader | B19: Internasjonale | E19: =E17*E18 -> 0 | F19: =F17*F18 -> 0 | G19: =G17*G18 -> 0 | H19: =H17*H18 -> 0 | I19: =I17*I18 -> 0 | J19: =J17*J18 -> 0 | K19: =K17*K18 -> 0 | L19: =L17*L18 -> 0 | ... N19: =N17*N18 -> 0 | O19: =SUM(E19:N19) -> 0
A20: Leiested 5
A21: Antall timer/enheter Leiested
A22: Enhetspris Leiested
A23: Leiestedskostnader | B23: Offentlige | E23: =E21*E22 -> 0 | F23: =F21*F22 -> 0 | G23: =G21*G22 -> 0 | H23: =H21*H22 -> 0 | I23: =I21*I22 -> 0 | J23: =J21*J22 -> 0 | K23: =K21*K22 -> 0 | L23: =L21*L22 -> 0 | ... N23: =N21*N22 -> 0 | O23: =SUM(E23:N23) -> 0
A24: Leiested 6
A25: Antall timer/enheter Leiested
A26: Enhetspris Leiested
A27: Leiestedskostnader | E27: =E25*E26 -> 0 | F27: =F25*F26 -> 0 | G27: =G25*G26 -> 0 | H27: =H25*H26 -> 0 | I27: =I25*I26 -> 0 | J27: =J25*J26 -> 0 | K27: =K25*K26 -> 0 | L27: =L25*L26 -> 0 | ... N27: =N25*N26 -> 0 | O27: =SUM(E27:N27) -> 0
A28: Leiested 7
A29: Antall timer/enheter Leiested
A30: Enhetspris Leiested
A31: Leiestedskostnader | E31: =E29*E30 -> 0 | F31: =F29*F30 -> 0 | G31: =G29*G30 -> 0 | H31: =H29*H30 -> 0 | I31: =I29*I30 -> 0 | J31: =J29*J30 -> 0 | K31: =K29*K30 -> 0 | L31: =L29*L30 -> 0 | ... N31: =N29*N30 -> 0 | O31: =SUM(E31:N31) -> 0
A32: Leiested 8
A33: Antall timer/enheter Leiested
A34: Enhetspris Leiested
A35: Leiestedskostnader | B35: NFR | E35: =E33*E34 -> 0 | F35: =F33*F34 -> 0 | G35: =G33*G34 -> 0 | H35: =H33*H34 -> 0 | I35: =I33*I34 -> 0 | J35: =J33*J34 -> 0 | K35: =K33*K34 -> 0 | L35: =L33*L34 -> 0 | ... N35: =N33*N34 -> 0 | O35: =SUM(E35:N35) -> 0
A36: Leiested 9
A37: Antall timer/enheter Leiested
A38: Enhetspris Leiested
A39: Leiestedskostnader | B39: NFR | E39: =E37*E38 -> 0 | F39: =F37*F38 -> 0 | G39: =G37*G38 -> 0 | H39: =H37*H38 -> 0 | I39: =I37*I38 -> 0 | J39: =J37*J38 -> 0 | K39: =K37*K38 -> 0 | L39: =L37*L38 -> 0 | ... N39: =N37*N38 -> 0 | O39: =SUM(E39:N39) -> 0
A40: Leiested 10
...

Sheet Intern oversikt
B1: Prosjekttittel: | C1: =Registrering!B4 -> 0
B2: Prosjektnr: | C2: =Registrering!B8 -> 0
B3: Saksnummer ePhorte: | C3: =Registrering!B9 -> 0
B6: Intern rapport - søknadsbudsjett | C6: =Budsjett!D3 -> 2024 | D6: =Budsjett!E3 -> 2025 | E6: =Budsjett!F3 -> 2026 | F6: =Budsjett!G3 -> 2027 | G6: =Budsjett!H3 -> 2028 | H6: =Budsjett!I3 -> 2029 | I6: =Budsjett!J3 -> 2030 | J6: =Budsjett!K3 -> 2031 | K6: Totalitet
B7: Eksterne inntekter og kostnader
B8: Eksterne inntekter | C8: =Budsjett!D42 -> 0 | D8: =Budsjett!E42 -> 0 | E8: =Budsjett!F42 -> 0 | F8: =Budsjett!G42 -> 0 | G8: =Budsjett!H42 -> 0 | H8: =Budsjett!I42 -> 0 | I8: =Budsjett!J42 -> 0 | J8: =Budsjett!K42 -> 0 | K8: =SUM(C8:J8) -> 0
B9: Viderefordelte inntekter
B10: Totale eksterne inntekter | C10: =SUM(C8:C9) -> 0 | D10: =SUM(D8:D9) -> 0 | E10: =SUM(E8:E9) -> 0 | F10: =SUM(F8:F9) -> 0 | G10: =SUM(G8:G9) -> 0 | H10: =SUM(H8:H9) -> 0 | I10: =SUM(I8:I9) -> 0 | J10: =SUM(J8:J9) -> 0 | K10: =SUM(K8:K9) -> 0
B11: Personalkostnader | C11: =Budsjett!AO4 -> 0 | D11: =Budsjett!AP4 -> 0 | E11: =Budsjett!AQ4 -> 0 | F11: =Budsjett!AR4 -> 0 | G11: =Budsjett!AS4 -> 0 | H11: =Budsjett!AT4 -> 0 | I11: =Budsjett!AU4 -> 0 | J11: =Budsjett!AV4 -> 0 | K11: =SUM(C11:J11) -> 0
B12: Eksternt fin frikjøp | C12: =Budsjett!AO19 -> 0 | D12: =Budsjett!AP19 -> 0 | E12: =Budsjett!AQ19 -> 0 | F12: =Budsjett!AR19 -> 0 | G12: =Budsjett!AS19 -> 0 | H12: =Budsjett!AT19 -> 0 | I12: =Budsjett!AU19 -> 0 | J12: =Budsjett!AV19 -> 0 | K12: =SUM(C12:J12) -> 0
B13: Eksternt fin overheadkostnader | C13: =Budsjett!BG34 -> 0 | D13: =Budsjett!BH34 -> 0 | E13: =Budsjett!BI34 -> 0 | F13: =Budsjett!BJ34 -> 0 | G13: =Budsjett!BK34 -> 0 | H13: =Budsjett!BL34 -> 0 | I13: =Budsjett!BM34 -> 0 | J13: =Budsjett!BN34 -> 0 | K13: =SUM(C13:J13) -> 0
B14: Family allowance | C14: =Budsjett!D37 -> 0 | D14: =Budsjett!E37 -> 0 | E14: =Budsjett!F37 -> 0 | F14: =Budsjett!G37 -> 0 | G14: =Budsjett!H37 -> 0 | H14: =Budsjett!I37 -> 0 | I14: =Budsjett!J37 -> 0 | J14: =Budsjett!K37 -> 0 | K14: =SUM(C14:J14) -> 0
B15: Eksternt fin leiestedskostnader | K15: =SUM(C15:J15) -> 0
B16: Research, training og networking costs per year | C16: =Budsjett!AO40 -> 0 | D16: =Budsjett!AP40 -> 0 | E16: =Budsjett!AQ40 -> 0 | F16: =Budsjett!AR40 -> 0 | G16: =Budsjett!AS40 -> 0 | H16: =Budsjett!AT40 -> 0 | I16: =Budsjett!AU40 -> 0 | J16: =Budsjett!AV40 -> 0 | K16: =SUM(C16:J16) -> 0
B17: Management & indirect costs per year | C17: =Budsjett!AO41 -> 0 | D17: =Budsjett!AP41 -> 0 | E17: =Budsjett!AQ41 -> 0 | F17: =Budsjett!AR41 -> 0 | G17: =Budsjett!AS41 -> 0 | H17: =Budsjett!AT41 -> 0 | I17: =Budsjett!AU41 -> 0 | J17: =Budsjett!AV41 -> 0 | K17: =SUM(C17:J17) -> 0
B18: Totale eksterne kostnader | C18: =SUM(C11:C17) -> 0 | D18: =SUM(D11:D17) -> 0 | E18: =SUM(E11:E17) -> 0 | F18: =SUM(F11:F17) -> 0 | G18: =SUM(G11:G17) -> 0 | H18: =SUM(H11:H17) -> 0 | I18: =SUM(I11:I17) -> 0 | J18: =SUM(J11:J17) -> 0 | K18: =SUM(K11:K17) -> 0
B19: Resultat på prosjektet | C19: =C10+C18 -> 0 | D19: =D10+D18 -> 0 | E19: =E10+E18 -> 0 | F19: =F10+F18 -> 0 | G19: =G10+G18 -> 0 | H19: =H10+H18 -> 0 | I19: =I10+I18 -> 0 | J19: =J10+J18 -> 0 | K19: =K10+K18 -> 0
B21: Intern finansiering av ressurser
B22: Egenandel | C22: =Budsjett!D43 -> 0 | D22: =Budsjett!E43 -> 0 | E22: =Budsjett!F43 -> 0 | F22: =Budsjett!G43 -> 0 | G22: =Budsjett!H43 -> 0 | H22: =Budsjett!I43 -> 0 | I22: =Budsjett!J43 -> 0 | J22: =Budsjett!K43 -> 0 | K22: =SUM(C22:J22) -> 0
B23: Kostnad internt fin frikjøp | C23: =Budsjett!AO27 -> 0 | D23: =Budsjett!AP27 -> 0 | E23: =Budsjett!AQ27 -> 0 | F23: =Budsjett!AR27 -> 0 | G23: =Budsjett!AS27 -> 0 | H23: =Budsjett!AT27 -> 0 | I23: =Budsjett!AU27 -> 0 | J23: =Budsjett!AV27 -> 0 | K23: =SUM(C23:J23) -> 0
B24: Internt fin overheadkostnader | C24: =Budsjett!BP4 -> 0 | D24: =Budsjett!BQ4 -> 0 | E24: =Budsjett!BR4 -> 0 | F24: =Budsjett!BS4 -> 0 | G24: =Budsjett!BT4 -> 0 | H24: =Budsjett!BU4 -> 0 | I24: =Budsjett!BV4 -> 0 | J24: =Budsjett!BW4 -> 0 | K24: =SUM(C24:J24) -> 0
B25: Internt fin. leiestedskostnader | K25: =SUM(C25:J25) -> 0
B26: Sum intern finansiering | C26: =SUM(C22:C25) -> 0 | D26: =SUM(D22:D25) -> 0 | E26: =SUM(E22:E25) -> 0 | F26: =SUM(F22:F25) -> 0 | G26: =SUM(G22:G25) -> 0 | H26: =SUM(H22:H25) -> 0 | I26: =SUM(I22:I25) -> 0 | J26: =SUM(J22:J25) -> 0 | K26: =SUM(C26:J26) -> 0
B27: Resultat levetidsprognose | C27: =C10+C18+C26 -> 0 | D27: =D10+D18+D26 -> 0 | E27: =E10+E18+E26 -> 0 | F27: =F10+F18+F26 -> 0 | G27: =G10+G18+G26 -> 0 | H27: =H10+H18+H26 -> 0 | I27: =I10+I18+I26 -> 0 | J27: =J10+J18+J26 -> 0 | K27: =SUM(C27:G27) -> 0
B29: Totale kostnader i prosjektet | C29: =C18+C23+C24+C25 -> 0 | D29: =D18+D23+D24+D25 -> 0 | E29: =E18+E23+E24+E25 -> 0 | F29: =F18+F23+F24+F25 -> 0 | G29: =G18+G23+G24+G25 -> 0 | H29: =H18+H23+H24+H25 -> 0 | I29: =I18+I23+I24+I25 -> 0 | J29: =J18+J23+J24+J25 -> 0 | K29: =SUM(C29:J29) -> 0
B30: Nettobidrag | C30: =-C24-C22 -> 0 | D30: =-D24-D22 -> 0 | E30: =-E24-E22 -> 0 | F30: =-F24-F22 -> 0 | G30: =-G24-G22 -> 0 | H30: =-H24-H22 -> 0 | I30: =-I24-I22 -> 0 | J30: =-J24-J22 -> 0 | K30: =SUM(C30:J30) -> 0
E31: =Budsjett!A52 -> Mer inntekt/kostnad for instituttet | H31: =Budsjett!E52 -> 0
E32: Prosjektets reelle nettobidrag | H32: =K30+H31 -> 0
B34: Kort begrunnelse for prosjektets faglige interesse: | C34: =Registrering!B10 -> 0 | G34: Total overheadkostnad | H34: =IFERROR((K24+K13)/(K11+K12+K23),0) -> 0
G35: Eksternt fin. overhead | H35: =IFERROR((K13)/(K11+K12),0) -> 0
G36: Egenandelsprosent | H36: =IFERROR(-K22/K29,0) -> 0
B37: Underskrifter (på papirutskriften - som skal arkiveres)
B39: Prosjekteier (instituttleder) | D39: Dato | E39: Prosjektleder | J39: Dato
B40: =Registrering!B7 -> 0 | E40: =Registrering!B5 -> 0

Sheet NFR-budsjett
B1: NFR - budgeting form
B3: Cost plan (in NOK 1000)*
C4: =Budsjett!D3 -> 2024 | D4: =Budsjett!E3 -> 2025 | E4: =Budsjett!F3 -> 2026 | F4: =Budsjett!#REF! -> #REF! | G4: =Budsjett!#REF! -> #REF! | H4: =Budsjett!#REF! -> #REF! | I4: =Budsjett!#REF! -> #REF! | J4: =Budsjett!#REF! -> #REF! | K4: =Budsjett!#REF! -> #REF! | L4: =Budsjett!#REF! -> #REF! | M4: Sum 3 siste år | N4: Sum
B5: Payroll and indirect expenses | C5: =SUM('Intern oversikt'!C11+'Intern oversikt'!C12+'Intern oversikt'!C13+'Intern oversikt'!C23+'Intern oversikt'!C24) -> 0 | D5: =SUM('Intern oversikt'!D11+'Intern oversikt'!D12+'Intern oversikt'!D13+'Intern oversikt'!D23+'Intern oversikt'!D24) -> 0 | E5: =SUM('Intern oversikt'!E11+'Intern oversikt'!E12+'Intern oversikt'!E13+'Intern oversikt'!E23+'Intern oversikt'!E24) -> 0 | F5: =SUM('Intern oversikt'!#REF!+'Intern oversikt'!#REF!+'Intern oversikt'!#REF!+'Intern oversikt'!#REF!+'Intern oversikt'!#REF!) -> #REF! | G5: =SUM('Intern oversikt'!#REF!+'Intern oversikt'!#REF!+'Intern oversikt'!#REF!+'Intern oversikt'!#REF!+'Intern oversikt'!#REF!) -> #REF! | H5: =SUM('Intern oversikt'!#REF!+'Intern oversikt'!#REF!+'Intern oversikt'!#REF!+'Intern oversikt'!#REF!+'Intern oversikt'!#REF!) -> #REF! | I5: =SUM('Intern oversikt'!#REF!+'Intern oversikt'!#REF!+'Intern oversikt'!#REF!+'Intern oversikt'!#REF!+'Intern oversikt'!#REF!) -> #REF! | J5: =SUM('Intern oversikt'!#REF!+'Intern oversikt'!#REF!+'Intern oversikt'!#REF!+'Intern oversikt'!#REF!+'Intern oversikt'!#REF!) -> #REF! | K5: =SUM('Intern oversikt'!#REF!+'Intern oversikt'!#REF!+'Intern oversikt'!#REF!+'Intern oversikt'!#REF!+'Intern oversikt'!#REF!) -> #REF! | L5: =SUM('Intern oversikt'!#REF!+'Intern oversikt'!#REF!+'Intern oversikt'!#REF!+'Intern oversikt'!#REF!+'Intern oversikt'!#REF!) -> #REF! | M5: =H5+I5+J5 -> #REF! | N5: =SUM(C5:L5) -> #REF!
B6: Procurement of R&D services | C6: =Budsjett!#REF!+Budsjett!#REF! -> #REF! | D6: =Budsjett!#REF!+Budsjett!#REF! -> #REF! | E6: =Budsjett!#REF!+Budsjett!#REF! -> #REF! | F6: =Budsjett!#REF!+Budsjett!#REF! -> #REF! | G6: =Budsjett!#REF!+Budsjett!#REF! -> #REF! | H6: =Budsjett!#REF!+Budsjett!#REF! -> #REF! | I6: =Budsjett!#REF!+Budsjett!#REF! -> #REF! | J6: =Budsjett!#REF!+Budsjett!#REF! -> #REF! | ... L6: =Budsjett!#REF!+Budsjett!#REF! -> #REF! | M6: =H6+I6+J6 -> #REF! | N6: =SUM(C6:L6) -> #REF!
B7: Equipment | C7: =Budsjett!#REF! -> #REF! | D7: =Budsjett!#REF! -> #REF! | E7: =Budsjett!#REF! -> #REF! | F7: =Budsjett!#REF! -> #REF! | G7: =Budsjett!#REF! -> #REF! | H7: =Budsjett!#REF! -> #REF! | I7: =Budsjett!#REF! -> #REF! | J7: =Budsjett!#REF! -> #REF! | ... L7: =Budsjett!#REF! -> #REF! | M7: =H7+I7+J7 -> #REF! | N7: =SUM(C7:L7) -> #REF!
B8: Other operating expenses | C8: =SUM(Budsjett!#REF!+Budsjett!D38+Budsjett!#REF!+Budsjett!#REF!+Budsjett!#REF!+Budsjett!#REF!) -> #REF! | D8: =SUM(Budsjett!E38+Budsjett!E39+Budsjett!#REF!+Budsjett!#REF!+Budsjett!#REF!+Budsjett!#REF!) -> #REF! | E8: =SUM(Budsjett!F38+Budsjett!F39+Budsjett!#REF!+Budsjett!#REF!+Budsjett!#REF!+Budsjett!#REF!) -> #REF! | F8: =SUM(Budsjett!#REF!+Budsjett!#REF!+Budsjett!#REF!+Budsjett!#REF!+Budsjett!#REF!+Budsjett!#REF!) -> #REF! | G8: =SUM(Budsjett!#REF!+Budsjett!#REF!+Budsjett!#REF!+Budsjett!#REF!+Budsjett!#REF!+Budsjett!#REF!) -> #REF! | H8: =SUM(Budsjett!#REF!+Budsjett!#REF!+Budsjett!#REF!+Budsjett!#REF!+Budsjett!#REF!+Budsjett!#REF!) -> #REF! | I8: =SUM(Budsjett!#REF!+Budsjett!#REF!+Budsjett!#REF!+Budsjett!#REF!+Budsjett!#REF!+Budsjett!#REF!) -> #REF! | J8: =SUM(Budsjett!#REF!+Budsjett!#REF!+Budsjett!#REF!+Budsjett!#REF!+Budsjett!#REF!+Budsjett!#REF!) -> #REF! | K8: =SUM(Budsjett!#REF!+Budsjett!#REF!+Budsjett!#REF!+Budsjett!#REF!+Budsjett!#REF!+Budsjett!#REF!) -> #REF! | L8: =SUM(Budsjett!#REF!+Budsjett!#REF!+Budsjett!#REF!+Budsjett!#REF!+Budsjett!#REF!+Budsjett!#REF!) -> #REF! | M8: =H8+I8+J8 -> #REF! | N8: =SUM(C8:L8) -> #REF!
B9: Totals | C9: =SUM(C5:C8) -> #REF! | D9: =SUM(D5:D8) -> #REF! | E9: =SUM(E5:E8) -> #REF! | F9: =SUM(F5:F8) -> #REF! | G9: =SUM(G5:G8) -> #REF! | H9: =SUM(H5:H8) -> #REF! | I9: =SUM(I5:I8) -> #REF! | J9: =SUM(J5:J8) -> #REF! | ... N9: =SUM(N5:N8) -> #REF!
B11: Cost code (in NOK 1000)*
C12: =C4 -> 2024 | D12: =D4 -> 2025 | E12: =E4 -> 2026 | F12: =F4 -> #REF! | G12: =G4 -> #REF! | H12: =H4 -> #REF! | I12: =I4 -> #REF! | J12: =J4 -> #REF! | ... L12: =L4 -> #REF! | M12: Sum 3 siste år | N12: Sum
B13: Trade and industry | M13: =H13+I13+J13 -> 0 | N13: =SUM(C13:L13) -> 0
B14: Independent research institute | M14: =H14+I14+J14 -> 0 | N14: =SUM(C14:L14) -> 0
B15: Universities and University Colleges | C15: =C9-C13-C14-C16-C17 -> #REF! | D15: =D9-D13-D14-D16-D17 -> #REF! | E15: =E9-E13-E14-E16-E17 -> #REF! | F15: =F9-F13-F14-F16-F17 -> #REF! | G15: =G9-G13-G14-G16-G17 -> #REF! | H15: =H9-H13-H14-H16-H17 -> #REF! | I15: =I9-I13-I14-I16-I17 -> #REF! | J15: =J9-J13-J14-J16-J17 -> #REF! | ... L15: =L9-L13-L14-L16-L17 -> #REF! | M15: =H15+I15+J15 -> #REF! | N15: =SUM(C15:L15) -> #REF!
B16: Other sectors | M16: =H16+I16+J16 -> 0 | N16: =SUM(C16:L16) -> 0
B17: Abroad | M17: =H17+I17+J17 -> 0 | N17: =SUM(C17:L17) -> 0
B18: Totals | C18: =SUM(C13:C17) -> #REF! | D18: =SUM(D14:D17) -> #REF! | E18: =SUM(E14:E17) -> #REF! | F18: =SUM(F14:F17) -> #REF! | G18: =SUM(G14:G17) -> #REF! | H18: =SUM(H14:H17) -> #REF! | I18: =SUM(I14:I17) -> #REF! | J18: =SUM(J14:J17) -> #REF! | K18: =SUM(K14:K17) -> #REF! | ... M18: =SUM(M14:M17) -> #REF! | N18: =SUM(N13:N17) -> #REF!
B20: Funding plan (in NOK 1000)*
C21: =C4 -> 2024 | D21: =D4 -> 2025 | E21: =E4 -> 2026 | F21: =F4 -> #REF! | G21: =G4 -> #REF! | H21: =H4 -> #REF! | I21: =I4 -> #REF! | J21: =J4 -> #REF! | ... L21: =L4 -> #REF! | M21: Sum 3 siste år | N21: Sum | O21: % Andel
B22: Own financing | C22: =-Budsjett!D43 -> 0 | D22: =-Budsjett!E43 -> 0 | E22: =-Budsjett!F43 -> 0 | F22: =-Budsjett!#REF! -> #REF! | G22: =-Budsjett!#REF! -> #REF! | H22: =-Budsjett!#REF! -> #REF! | I22: =-Budsjett!#REF! -> #REF! | J22: =-Budsjett!#REF! -> #REF! | K22: =-Budsjett!#REF! -> #REF! | L22: =-Budsjett!#REF! -> #REF! | M22: =H22+I22+J22 -> #REF! | N22: =SUM(C22:L22) -> #REF! | O22: =IFERROR(N22/$N$27*100,0) -> 0 | P22: =IFERROR(N22/($N$22+$N$25)*100,0) -> 0
B23: International funding | C23: =-IF(Registrering!$B$28="Fast beløp",Finansiering!C26,Budsjett!#REF!) -> 0 | D23: =-IF(Registrering!$B$28="Fast beløp",Finansiering!D26,Budsjett!#REF!) -> 0 | E23: =-IF(Registrering!$B$28="Fast beløp",Finansiering!E26,Budsjett!#REF!) -> 0 | F23: =-IF(Registrering!$B$28="Fast beløp",Finansiering!F26,Budsjett!#REF!) -> 0 | G23: =-IF(Registrering!$B$28="Fast beløp",Finansiering!G26,Budsjett!#REF!) -> 0 | H23: =-IF(Registrering!$B$28="Fast beløp",Finansiering!H26,Budsjett!#REF!) -> 0 | I23: =-IF(Registrering!$B$28="Fast beløp",Finansiering!I26,Budsjett!#REF!) -> 0 | J23: =-IF(Registrering!$B$28="Fast beløp",Finansiering!J26,Budsjett!#REF!) -> 0 | ... M23: =-IF(Registrering!$B$28="Fast beløp",Finansiering!M26,Budsjett!#REF!) -> 0 | N23: =SUM(C23:L23) -> 0 | O23: =IFERROR(N23/$N$27*100,0) -> 0
B24: Other public funding | C24: =-IF(Registrering!$B$28="Fast beløp",Finansiering!C27,Budsjett!#REF!) -> 0 | D24: =-IF(Registrering!$B$28="Fast beløp",Finansiering!D27,Budsjett!#REF!) -> 0 | E24: =-IF(Registrering!$B$28="Fast beløp",Finansiering!E27,Budsjett!#REF!) -> 0 | F24: =-IF(Registrering!$B$28="Fast beløp",Finansiering!F27,Budsjett!#REF!) -> 0 | G24: =-IF(Registrering!$B$28="Fast beløp",Finansiering!G27,Budsjett!#REF!) -> 0 | H24: =-IF(Registrering!$B$28="Fast beløp",Finansiering!H27,Budsjett!#REF!) -> 0 | I24: =-IF(Registrering!$B$28="Fast beløp",Finansiering!I27,Budsjett!#REF!) -> 0 | J24: =-IF(Registrering!$B$28="Fast beløp",Finansiering!J27,Budsjett!#REF!) -> 0 | ... L24: =-IF(Registrering!$B$28="Fast beløp",Finansiering!L27,Budsjett!#REF!) -> 0 | M24: =H24+I24+J24 -> 0 | N24: =SUM(C24:L24) -> 0 | O24: =IFERROR(N24/$N$27*100,0) -> 0
B25: Other private funding | C25: =-IF(Registrering!$B$28="Fast beløp",Finansiering!C28,Budsjett!#REF!) -> 0 | D25: =-IF(Registrering!$B$28="Fast beløp",Finansiering!D28,Budsjett!#REF!) -> 0 | E25: =-IF(Registrering!$B$28="Fast beløp",Finansiering!E28,Budsjett!#REF!) -> 0 | F25: =-IF(Registrering!$B$28="Fast beløp",Finansiering!F28,Budsjett!#REF!) -> 0 | G25: =-IF(Registrering!$B$28="Fast beløp",Finansiering!G28,Budsjett!#REF!) -> 0 | H25: =-IF(Registrering!$B$28="Fast beløp",Finansiering!H28,Budsjett!#REF!) -> 0 | I25: =-IF(Registrering!$B$28="Fast beløp",Finansiering!I28,Budsjett!#REF!) -> 0 | J25: =-IF(Registrering!$B$28="Fast beløp",Finansiering!J28,Budsjett!#REF!) -> 0 | ... M25: =-IF(Registrering!$B$28="Fast beløp",Finansiering!M28,Budsjett!#REF!) -> 0 | N25: =SUM(C25:L25) -> 0 | O25: =IFERROR(N25/$N$27*100,0) -> 0 | P25: =IFERROR(N25/($N$22+$N$25)*100,0) -> 0
B26: From Research Council | C26: =-IF(Registrering!$B$28="Fast beløp",Finansiering!C29,Budsjett!#REF!) -> 0 | D26: =-IF(Registrering!$B$28="Fast beløp",Finansiering!D29,Budsjett!#REF!) -> 0 | E26: =-IF(Registrering!$B$28="Fast beløp",Finansiering!E29,Budsjett!#REF!) -> 0 | F26: =-IF(Registrering!$B$28="Fast beløp",Finansiering!F29,Budsjett!#REF!) -> 0 | G26: =-IF(Registrering!$B$28="Fast beløp",Finansiering!G29,Budsjett!#REF!) -> 0 | H26: =-IF(Registrering!$B$28="Fast beløp",Finansiering!H29,Budsjett!#REF!) -> 0 | I26: =-IF(Registrering!$B$28="Fast beløp",Finansiering!I29,Budsjett!#REF!) -> 0 | J26: =-IF(Registrering!$B$28="Fast beløp",Finansiering!J29,Budsjett!#REF!) -> 0 | ... L26: =-IF(Registrering!$B$28="Fast beløp",Finansiering!L29,Budsjett!#REF!) -> 0 | M26: =H26+I26+J26 -> 0 | N26: =SUM(C26:L26) -> 0 | O26: =IFERROR(N26/$N$27*100,0) -> 0
B27: Totals | C27: =SUM(C22:C26) -> 0 | D27: =SUM(D22:D26) -> 0 | E27: =SUM(E22:E26) -> 0 | F27: =SUM(F22:F26) -> #REF! | G27: =SUM(G22:G26) -> #REF! | H27: =SUM(H22:H26) -> #REF! | I27: =SUM(I22:I26) -> #REF! | J27: =SUM(J22:J26) -> #REF! | ... N27: =SUM(N22:N26) -> #REF! | O27: =N27/N27 -> #REF!
B28: kontroll | C28: =C9-C27 -> #REF! | D28: =D9-D27 -> #REF! | E28: =E9-E27 -> #REF! | F28: =F9-F27 -> #REF! | G28: =G9-G27 -> #REF! | H28: =H9-H27 -> #REF! | I28: =I9-I27 -> #REF! | J28: =J9-J27 -> #REF! | ... L28: =L9-L27 -> #REF! | N28: =N9-N27 -> #REF!
B29: Allocations sought from the Research Council (in 1000 NOK)
C30: =C4 -> 2024 | D30: =D4 -> 2025 | E30: =E4 -> 2026 | F30: =F4 -> #REF! | G30: =G4 -> #REF! | H30: =H4 -> #REF! | I30: =I4 -> #REF! | J30: =J4 -> #REF! | ... L30: =L4 -> #REF! | M30: Sum 3 siste år | N30: Sum
B31: Student fellowships | C31: =-SUMIF(Budsjett!#REF!,Finansiering!$A$17,Budsjett!#REF!) -> #REF! | D31: =-SUMIF(Budsjett!#REF!,Finansiering!$A$17,Budsjett!#REF!) -> #REF! | E31: =-SUMIF(Budsjett!#REF!,Finansiering!$A$17,Budsjett!#REF!) -> #REF! | F31: =-SUMIF(Budsjett!#REF!,Finansiering!$A$17,Budsjett!#REF!) -> #REF! | G31: =-SUMIF(Budsjett!#REF!,Finansiering!$A$17,Budsjett!#REF!) -> #REF! | H31: =-SUMIF(Budsjett!#REF!,Finansiering!$A$17,Budsjett!#REF!) -> #REF! | I31: =-SUMIF(Budsjett!#REF!,Finansiering!$A$17,Budsjett!#REF!) -> #REF! | J31: =-SUMIF(Budsjett!#REF!,Finansiering!$A$17,Budsjett!#REF!) -> #REF! | ... L31: =-SUMIF(Budsjett!#REF!,Finansiering!$A$17,Budsjett!#REF!) -> #REF! | M31: =H31+I31+J31 -> #REF! | N31: =SUM(C31:L31) -> #REF!
B32: Doctoral fellowships | C32: =-SUMIF(Budsjett!#REF!,Finansiering!$A$13,Budsjett!#REF!) -> #REF! | D32: =-SUMIF(Budsjett!#REF!,Finansiering!$A$13,Budsjett!#REF!) -> #REF! | E32: =-SUMIF(Budsjett!#REF!,Finansiering!$A$13,Budsjett!#REF!) -> #REF! | F32: =-SUMIF(Budsjett!#REF!,Finansiering!$A$13,Budsjett!#REF!) -> #REF! | G32: =-SUMIF(Budsjett!#REF!,Finansiering!$A$13,Budsjett!#REF!) -> #REF! | H32: =-SUMIF(Budsjett!#REF!,Finansiering!$A$13,Budsjett!#REF!) -> #REF! | I32: =-SUMIF(Budsjett!#REF!,Finansiering!$A$13,Budsjett!#REF!) -> #REF! | J32: =-SUMIF(Budsjett!#REF!,Finansiering!$A$13,Budsjett!#REF!) -> #REF! | ... L32: =-SUMIF(Budsjett!#REF!,Finansiering!$A$13,Budsjett!#REF!) -> #REF! | M32: =H32+I32+J32 -> #REF! | N32: =SUM(C32:L32) -> #REF!
B33: Post-doctoral fellowships | C33: =-SUMIF(Budsjett!#REF!,Finansiering!$A$12,Budsjett!#REF!) -> #REF! | D33: =-SUMIF(Budsjett!#REF!,Finansiering!$A$12,Budsjett!#REF!) -> #REF! | E33: =-SUMIF(Budsjett!#REF!,Finansiering!$A$12,Budsjett!#REF!) -> #REF! | F33: =-SUMIF(Budsjett!#REF!,Finansiering!$A$12,Budsjett!#REF!) -> #REF! | G33: =-SUMIF(Budsjett!#REF!,Finansiering!$A$12,Budsjett!#REF!) -> #REF! | H33: =-SUMIF(Budsjett!#REF!,Finansiering!$A$12,Budsjett!#REF!) -> #REF! | I33: =-SUMIF(Budsjett!#REF!,Finansiering!$A$12,Budsjett!#REF!) -> #REF! | J33: =-SUMIF(Budsjett!#REF!,Finansiering!$A$12,Budsjett!#REF!) -> #REF! | ... L33: =-SUMIF(Budsjett!#REF!,Finansiering!$A$12,Budsjett!#REF!) -> #REF! | M33: =H33+I33+J33 -> #REF! | N33: =SUM(C33:L33) -> #REF!
B34: Grants for visiting researchers | C34: =-SUMIF(Budsjett!#REF!,Finansiering!$A$18,Budsjett!#REF!)-SUMIF(Budsjett!#REF!,Finansiering!$A$19,Budsjett!#REF!) -> #REF! | D34: =-SUMIF(Budsjett!#REF!,Finansiering!$A$18,Budsjett!#REF!)-SUMIF(Budsjett!#REF!,Finansiering!$A$19,Budsjett!#REF!) -> #REF! | E34: =-SUMIF(Budsjett!#REF!,Finansiering!$A$18,Budsjett!#REF!)-SUMIF(Budsjett!#REF!,Finansiering!$A$19,Budsjett!#REF!) -> #REF! | F34: =-SUMIF(Budsjett!#REF!,Finansiering!$A$18,Budsjett!#REF!)-SUMIF(Budsjett!#REF!,Finansiering!$A$19,Budsjett!#REF!) -> #REF! | G34: =-SUMIF(Budsjett!#REF!,Finansiering!$A$18,Budsjett!#REF!)-SUMIF(Budsjett!#REF!,Finansiering!$A$19,Budsjett!#REF!) -> #REF! | H34: =-SUMIF(Budsjett!#REF!,Finansiering!$A$18,Budsjett!#REF!)-SUMIF(Budsjett!#REF!,Finansiering!$A$19,Budsjett!#REF!) -> #REF! | I34: =-SUMIF(Budsjett!#REF!,Finansiering!$A$18,Budsjett!#REF!)-SUMIF(Budsjett!#REF!,Finansiering!$A$19,Budsjett!#REF!) -> #REF! | J34: =-SUMIF(Budsjett!#REF!,Finansiering!$A$18,Budsjett!#REF!)-SUMIF(Budsjett!#REF!,Finansiering!$A$19,Budsjett!#REF!) -> #REF! | ... L34: =-SUMIF(Budsjett!#REF!,Finansiering!$A$18,Budsjett!#REF!)-SUMIF(Budsjett!#REF!,Finansiering!$A$19,Budsjett!#REF!) -> #REF! | M34: =H34+I34+J34 -> #REF! | N34: =SUM(C34:L34) -> #REF!
B35: Grants for overseas researchers | C35: =-SUMIF(Budsjett!#REF!,Finansiering!$A$20,Budsjett!#REF!)-SUMIF(Budsjett!#REF!,Finansiering!$A$21,Budsjett!#REF!) -> #REF! | D35: =-SUMIF(Budsjett!#REF!,Finansiering!$A$20,Budsjett!#REF!)-SUMIF(Budsjett!#REF!,Finansiering!$A$21,Budsjett!#REF!) -> #REF! | E35: =-SUMIF(Budsjett!#REF!,Finansiering!$A$20,Budsjett!#REF!)-SUMIF(Budsjett!#REF!,Finansiering!$A$21,Budsjett!#REF!) -> #REF! | F35: =-SUMIF(Budsjett!#REF!,Finansiering!$A$20,Budsjett!#REF!)-SUMIF(Budsjett!#REF!,Finansiering!$A$21,Budsjett!#REF!) -> #REF! | G35: =-SUMIF(Budsjett!#REF!,Finansiering!$A$20,Budsjett!#REF!)-SUMIF(Budsjett!#REF!,Finansiering!$A$21,Budsjett!#REF!) -> #REF! | H35: =-SUMIF(Budsjett!#REF!,Finansiering!$A$20,Budsjett!#REF!)-SUMIF(Budsjett!#REF!,Finansiering!$A$21,Budsjett!#REF!) -> #REF! | I35: =-SUMIF(Budsjett!#REF!,Finansiering!$A$20,Budsjett!#REF!)-SUMIF(Budsjett!#REF!,Finansiering!$A$21,Budsjett!#REF!) -> #REF! | J35: =-SUMIF(Budsjett!#REF!,Finansiering!$A$20,Budsjett!#REF!)-SUMIF(Budsjett!#REF!,Finansiering!$A$21,Budsjett!#REF!) -> #REF! | ... L35: =-SUMIF(Budsjett!#REF!,Finansiering!$A$20,Budsjett!#REF!)-SUMIF(Budsjett!#REF!,Finansiering!$A$21,Budsjett!#REF!) -> #REF! | M35: =H35+I35+J35 -> #REF! | N35: =SUM(C35:L35) -> #REF!
B36: Researcher positions | C36: =-Budsjett!#REF!-SUM(C31:C35)-C37 -> #REF! | D36: =-Budsjett!#REF!-SUM(D31:D35)-D37 -> #REF! | E36: =-Budsjett!#REF!-SUM(E31:E35)-E37 -> #REF! | F36: =-Budsjett!#REF!-SUM(F31:F35)-F37 -> #REF! | G36: =-Budsjett!#REF!-SUM(G31:G35)-G37 -> #REF! | H36: =-Budsjett!#REF!-SUM(H31:H35)-H37 -> #REF! | I36: =-Budsjett!#REF!-SUM(I31:I35)-I37 -> #REF! | J36: =-Budsjett!#REF!-SUM(J31:J35)-J37 -> #REF! | ... L36: =-Budsjett!#REF!-SUM(L31:L35)-L37 -> #REF! | M36: =H36+I36+J36 -> #REF! | N36: =SUM(C36:L36) -> #REF!
B37: Hourly-based salary including indirect costs | C37: =-SUMIF(Budsjett!#REF!,Finansiering!$A$22,Budsjett!#REF!)-SUMIF(Budsjett!#REF!,Finansiering!$A$16,Budsjett!#REF!) -> #REF! | D37: =-SUMIF(Budsjett!#REF!,Finansiering!$A$22,Budsjett!#REF!)-SUMIF(Budsjett!#REF!,Finansiering!$A$16,Budsjett!#REF!) -> #REF! | E37: =-SUMIF(Budsjett!#REF!,Finansiering!$A$22,Budsjett!#REF!)-SUMIF(Budsjett!#REF!,Finansiering!$A$16,Budsjett!#REF!) -> #REF! | F37: =-SUMIF(Budsjett!#REF!,Finansiering!$A$22,Budsjett!#REF!)-SUMIF(Budsjett!#REF!,Finansiering!$A$16,Budsjett!#REF!) -> #REF! | G37: =-SUMIF(Budsjett!#REF!,Finansiering!$A$22,Budsjett!#REF!)-SUMIF(Budsjett!#REF!,Finansiering!$A$16,Budsjett!#REF!) -> #REF! | H37: =-SUMIF(Budsjett!#REF!,Finansiering!$A$22,Budsjett!#REF!)-SUMIF(Budsjett!#REF!,Finansiering!$A$16,Budsjett!#REF!) -> #REF! | I37: =-SUMIF(Budsjett!#REF!,Finansiering!$A$22,Budsjett!#REF!)-SUMIF(Budsjett!#REF!,Finansiering!$A$16,Budsjett!#REF!) -> #REF! | J37: =-SUMIF(Budsjett!#REF!,Finansiering!$A$22,Budsjett!#REF!)-SUMIF(Budsjett!#REF!,Finansiering!$A$16,Budsjett!#REF!) -> #REF! | ... L37: =-SUMIF(Budsjett!#REF!,Finansiering!$A$22,Budsjett!#REF!)-SUMIF(Budsjett!#REF!,Finansiering!$A$16,Budsjett!#REF!) -> #REF! | M37: =H37+I37+J37 -> #REF! | N37: =SUM(C37:L37) -> #REF!
B38: Sum payroll and indirect expenses | C38: =SUM(C31:C37) -> #REF! | D38: =SUM(D31:D37) -> #REF! | E38: =SUM(E31:E37) -> #REF! | F38: =SUM(F31:F37) -> #REF! | G38: =SUM(G31:G37) -> #REF! | H38: =SUM(H31:H37) -> #REF! | I38: =SUM(I31:I37) -> #REF! | J38: =SUM(J31:J37) -> #REF! | ... N38: =SUM(N31:N37) -> #REF!
B39: Procurement of R&D services | C39: =-Budsjett!#REF!-Budsjett!#REF! -> #REF! | D39: =-Budsjett!#REF!-Budsjett!#REF! -> #REF! | E39: =-Budsjett!#REF!-Budsjett!#REF! -> #REF! | F39: =-Budsjett!#REF!-Budsjett!#REF! -> #REF! | G39: =-Budsjett!#REF!-Budsjett!#REF! -> #REF! | H39: =-Budsjett!#REF!-Budsjett!#REF! -> #REF! | I39: =-Budsjett!#REF!-Budsjett!#REF! -> #REF! | J39: =-Budsjett!#REF!-Budsjett!#REF! -> #REF! | ... L39: =-Budsjett!#REF!-Budsjett!#REF! -> #REF! | M39: =H39+I39+J39 -> #REF! | N39: =SUM(C39:L39) -> #REF!
B40: Equipment | C40: =Budsjett!#REF! -> #REF! | D40: =Budsjett!#REF! -> #REF! | E40: =Budsjett!#REF! -> #REF! | F40: =Budsjett!#REF! -> #REF! | G40: =Budsjett!#REF! -> #REF! | H40: =Budsjett!#REF! -> #REF! | I40: =Budsjett!#REF! -> #REF! | J40: =Budsjett!#REF! -> #REF! | ... L40: =Budsjett!#REF! -> #REF! | M40: =H40+I40+J40 -> #REF! | N40: =SUM(C40:L40) -> #REF!
