Workbook
Name distlist: 'Purchase request form'!distributorlist
Name distlist: 'Traveler Info'!distributorlist
Name distlist: distributorlist
Name distributorlist: #REF!
Name distributorlist: #REF!
Name distributorlist: #REF!
Name JAellerNEI: Lists!$A$34:$A$35
Name Leverandør: #REF!
Name Seksjon: Lists!$A$25:$A$30
Name Sted: Lists!$A$2:$A$22
Name Valuta: Lists!$A$39:$A$47
Name YESellerNO: Table4[YESellerNO]
Name YESellerNO: Table4[YESellerNO]

Sheet Update log
A1: Date | B1: Corrections
A2: 20250130 | B2: Framework agreements
A3: 20220928 | B3: Bestillingsskjema - updated chemical ordering questionaire. Purchase request form - updated chemical ordering questionaire. INFORMATION - Updated several of the service framework agreements
A4: 20220729 | B4: INFORMATION - Office furniture framework aggreement suppliers updated
A5: 20220304 | B5: INFORMATION - Pipette tip framework aggreement supplier validty updated
A6: 20211118 | B6: Participant List - Updated link at top of sheet
A7: 20211116 | B7: Bestillingsskjema - updated Delprosjekt field data validation to allow use of work package Purchase request form - updated Delprosjekt field data validation to allow use of work package INFORMATION - Updated Catering framework agreement end-date.
A8: 20211029 | B8: Participant List - Changed "Time" to "Dining Time"
A9: 20211025 | B9: INFORMATION - Updated framework agreement "Chemicals for cell and microorganism cultures" - Added link to summary document for chemical framework agreement.
A10: 20211006 | B10: INFORMATION - Office supplie framework aggreement supplier updated to LYRECO
A11: 20210923 | B11: INFORMATION - Updated supplier name (Best Global Logistics) - Added information to Shipping agreement notes. - Removed Egencia
A12: 20210818 | B12: INFORMATION - Updated framework agreements for chemicals - Updated ordering deadline Life Technologies AS
A13: 20210526 | B13: INFORMATION - Updated framework agreement dates
... A15: 20210506 | B15: "INFORMATION" - Corrected ordering deadlines Nippon Bestillingsskjema - added version date G53 - Converted product lines to Table Purchase request form - Fixed conditional formatting in chemical order section - Fixed language in chemical order section - added version date G53 - Converted product lines to Table

Sheet INFORMATION
A1: Information
A2: Here you will find an overview of agreement suppliers and links to additional documentation where required.
A3: Links to forms | D3: Required attachments / additional documentation
A4: Bestillingsskjema | D4: Are you ordering… | F4: Required attachments | I4: Notes
A5: Purchase request form | D5: Purchase of an offer | F5: Offer / quote (as a pdf or email)
A6: Participant list | D6: Sending a package | F6: Contents description | I6: Link to letter templates
A7: Traveler Info | D7: Food / Drink | F7: Use the Nettskjema | I7: For open arrangements / section gatherings a list of names is not required but please make a note of the arrangement type in the "Attendees" field in the "Participant list".
A8: Car Rental Form
D10: Travel | F10: See uio.no for details | I10: "Traveler info" sheet
D11: Car Rental | F11: Car Rental Form
A12: Framework aggreements
A13: Agreement catalogue (via "Administrasjon" in Programkiosk)
A14: Where a desired product / service is provided by an agreement partner, that / those partner/s must be used.
A15: Good / Service type | B15: Supplier | G15: Notes | O15: Valid to
A17: Shipping / Freight | B17: Best Global Logistics | C17: World Courier | G17: BGL for the most. World Courier spesialises in particularly vulnerable / high value items. | O17: 46544
A18: Office consumables | B18: Lyreco | O18: 45931
A19: Office furniture | B19: Input Interior | C19: Senab Eikeland Øst | D19: Lindbak | O19: 46089
A20: Travel (Flights, hotel & car) | B20: Berg-Hansen* | D20: *See UiO website for details | O20: 47280
A21: Books | B21: Akademika | O21: 46022
A22: Gass | B22: Nippon Gases Norge | O22: 46614
A23: General lab chemicals | B23: Merck | O23: 46356
A24: Lab wares
A25: - Storage, marcking racks and stands | B25: Fisher | C25: Sarstedt | D25: VWR | O25: 46476
A26: - Laboratory glass and plastics to reuse (incl. single-use glassware) | B26: Saveen & Werner | C26: VWR | O26: 46476
A27: - Microscopy and histology wares | B27: Chemi-Teknik | C27: VWR | O27: 46476
A28: - Microscopy wares for cell culturing | B28: Saveen & Werner | C28: VWR | O28: 46476
A29: - Filter for general lab use, cell culturing and water treatment | B29: Fisher | C29: VWR | O29: 46476
A30: - Filters and membranes for blotting | B30: Bio-Rad | C30: Life Technologies | D30: Fisher | E30: VWR | O30: 46476
A31: - Diverse single-use plastics to laboratories | B31: Sarstedt | C31: VWR | D31: Fisher | O31: 46476
A32: - PCR wares | B32: Life Technologies | C32: Sarstedt | D32: VWR | O32: 46476
A33: - Diverse laboratory products (NOT plastic / glass) | B33: Fisher | C33: VWR | O33: 46476
A34: - Cell culturing products | B34: Sarstedt | C34: Fisher | D34: VWR | O34: 46476
A35: - Personal protection equipment (laboratories) | B35: VWR | O35: 46476
A36: - Pipette tips | O36: 46265
A37: Chemicals for cell and microorganism cultures | B37: Click agreement title for summary document (Norwegian only).
A38: - Media, supplements, mixtures and kits to eukaryotic cell culturing | B38: Life Technologies | C38: Merck Life Sciences | D38: VWR | O38: 45961
A39: - Diverse chemicals for culturing of ccells and microorganisms | B39: Life Technologies | C39: Merck Life Sciences | D39: VWR | O39: 45961
A40: - Antibiotics and antimyotics | B40: Life Technologies | C40: Merck Life Sciences | D40: Saveen & Werner | O40: 45961
A41: - Media and media-ingredients for culturing of microorganisms | B41: Life Technologies | C41: Thermo Fisher Diagnositics (Oxoid) | D41: VWR | O41: 45961
A42: - Serum to cell culturing | B42: BioNordika | C42: Life Technologies | D42: Merck Life Sciences | E42: VWR | O42: 45961
...

Sheet Bestillingsskjema
E1: Best.nr.
B2: KJØPSANMODNING | E2: Bestilt dato:
E3: Bestiller:
E4: (Fylles inn av bestillingskontoret)
A6: På denne kjøpsanmodning formidler du ditt behov. Bestilling vil bli sendt til leverandør etter godkjenning av person med budsjettdisponeringsmyndighet. Ufullstendig utfylt skjema returneres.
A8: Ditt navn
A9: Telefon
A10: E-post adresse
A12: Bestiller du kjemikalier? | C12: JA/NEI | D12: =IF(C12="JA", "Husk CC til ECOonline ansvarlig ingeniør (HMS-I)", "")
A13: Må fylles ut ved kjøp av kjemikalier | B13: Seksjon: | C13: ↓
B14: Romnummer hvor er/skal kjemikaliet lagres:
B15: Er SDS iht. Forordning (EF) nr. 1907/2006 (REACH)? | C15: ↓ | D15: =IF(C15="NEI", "Det vil komme en ekstra kostand for anskaffelse av iht. Forordning (EF) nr. 1907/2006 (REACH).", "")
B16: Er bruk av kjemikaliet riskovurdert og foreligger som en SOP? | C16: ↓ | D16: =IF(C16="NEI", "Hører med din lokale HMS-ingeniør", "")
B17: =IF(C16="JA", "Oppgi SOP referanse","")
A19: Spesifikasjon av vare eller tjeneste
A20: Fyll ut vare eller tjeneste som skal bestilles i rubrikken nedenfor. Vennligst spesifiser stykk pris (eks. moms), antall og valuta (bruk leverandør sin valuta). Øvrig merknader kan skrives i feltet nedenfor.
A21: Artikkel-/varenr. /annen ref.nr. | B21: Produkt beskrivelse | C21: Leverandør | D21: Stykkpris (eks moms) | E21: Antall | F21: Anslått Sum Pris | G21: Valuta
F22: =D22*E22 -> 0 | G22: NOK
F23: =D23*E23 -> 0 | G23: NOK
F24: =D24*E24 -> 0 | G24: NOK
F25: =D25*E25 -> 0 | G25: NOK
F26: =D26*E26 -> 0 | G26: NOK
F27: =D27*E27 -> 0 | G27: NOK
F28: =D28*E28 -> 0 | G28: NOK
F29: =D29*E29 -> 0 | G29: NOK
F30: =D30*E30 -> 0 | G30: NOK
F31: =D31*E31 -> 0 | G31: NOK
F32: =D32*E32 -> 0 | G32: NOK
F33: =D33*E33 -> 0 | G33: NOK
... F40: =D40*E40 -> 0 | G40: NOK
E41: Antatt totalbeløp eks. mva. | F41: =SUBTOTAL(9,Bestillingsskjema!$F$22:$F$40) -> 0
A43: Øvrig merknader til bestillingen:
A44: (Eventuell dokumentasjon for eksempel tilbud, vedlegges anmodningen. Ved bestilling av mat/drikke skal det legges ved en deltakerliste (se "Participant list" ark).
A50: Kontering | C50: Påkrevd dokumentasjon
A51: Koststed | C51: Bestilling av en tilbud: | D51: Tilbud (pdf eller epost)
A52: Delprosjekt | C52: Pakke forsendelse: | D52: "Contents description" brev
A53: Kontonavn | C53: Bevertning: | D53: Bruk egnet nettskjemaet
A54: Prosjektleder | C54: Leiebil: | D54: Car Rental Form
A56: Jeg bekrefter jeg har bestillerrettigheter for overnevnt kontostreng | D56: Send inn Husk å lagre og legge ved skjemaet
A57: Dato:
...

Sheet Purchase request form
E1: Best.nr.
B2: Purchase request form | E2: Bestilt dato:
E3: Bestiller:
E4: (Office use only)
A6: Use this form to communicate your needs. Orders will be sent to the appropriate supplier following approval from the budjet responsible. Incomplete forms will be returned.
A8: Your name
A9: Telephone
A10: Email address
A12: Are you requesting chemicals? | C12: YES / NO ↓ | D12: =IF(C12="YES", "Remember to CC your section's ECOonline responsible engineer", "")
A13: Must be filled out when ordering chemicals | B13: Section | C13: ↓
B14: Room number where chemicals are to be stored:
B15: Are the relevant MSDS according to Regulation (EC) No. 1907/2006 (REACH). | C15: ↓ | D15: =IF(C15="NO", "You will be responsible for costs associated with procuring MSDS which comply with Regulation (EC) No. 1907/2006 (REACH).", "")
B16: Is the chemical risk assessed and is there an SOP? | C16: ↓ | D16: =IF(C16="NO", "Contact your local HMS-technician", "")
B17: =IF(C16="Yes", "Please specify SOP","")
A19: Specification of goods / services.
A20: Fill in goods or services desired in the form below. Please specify supplier, unit price (ex. VAT), quantity and currency (use currency of the supplier). Additional remarks can be written in the field under the product entries.
A21: Catalogue no. / Other ref. no. | B21: Product description | C21: Supplier | D21: Unit Price (ex. VAT) | E21: Qty | F21: Sub-total (ex. VAT) | G21: Currency
F22: =D22*E22 -> 0 | G22: NOK
F23: =D23*E23 -> 0 | G23: NOK
F24: =D24*E24 -> 0 | G24: NOK
F25: =D25*E25 -> 0 | G25: NOK
F26: =D26*E26 -> 0 | G26: NOK
F27: =D27*E27 -> 0 | G27: NOK
F28: =D28*E28 -> 0 | G28: NOK
F29: =D29*E29 -> 0 | G29: NOK
F30: =D30*E30 -> 0 | G30: NOK
F31: =D31*E31 -> 0 | G31: NOK
F32: =D32*E32 -> 0 | G32: NOK
F33: =D33*E33 -> 0 | G33: NOK
... F40: =D40*E40 -> 0 | G40: NOK
E41: Expected total price ex. VAT. | F41: =SUBTOTAL(9,'Purchase request form'!$F$22:$F$40) -> 0
A43: Additional comments / remarks regarding the order:
A44: (Addtional documentation e.g. quotes / offers, should be attached to this order. When ordering food / catering please fill out the "Participant List" sheet in this file.)
A50: Payment source | C50: Required documentation
A51: Koststed | C51: Purchase of an offer: | D51: Offer / quote (as a pdf or email)
A52: Delprosjekt | C52: Sending a package: | D52: Contents description
A53: Account name | C53: Food / Drink: | D53: Use the dedicated Nettskjema (in Norwegian)
A54: Project leader | C54: Car Rental: | D54: Car Rental Form
A56: I confirm I am authorised to purchase these items using the IBV account supplied | D56: Submit Remember to save and attach form to email.
A57: Date:
...

Sheet Participant list
A1: Participant List.
A3: Requests for catering / dining out must be filed via the Nettskjema
A4: Please make yourself familiar with the guidelines for hosting and representation at UiO (external link)
A6: Event name:
A7: Date: | F7: Tilbake til bestillingsskjema
A8: Dining Time:
A9: Location: | F9: Return to purchase request form
A10: Contact name:
A11: Contact ph.:
A12: Event purpose:
A14: Attendees: | B14: Name | C14: Affiliation | D14: Email Address (if not UiO)

Sheet Traveler Info
A1: Traveler Info.
A3: Full Name (as it appears on your passport): | B3: Family Name:
B4: Given Name/s:
A5: Mobile: | B5: (+47)
A6: Email:
A7: Passport (for international flights):
A8: Passport expiry:
A9: Date of birth (DD.MM.YY)
A10: Nationality:
A12: Outward journey | E12: Tilbake til bestillingsskjema
A13: Airport / Train Station:
A14: Date:
A15: Time: | E15: Return to purchase request form
A16: Desired flight numbers:
A18: Return journey
A19: Airport / Train Station:
A20: Date:
A21: Time:
A22: Desired flight numbers:
A24: Extra notes:

Sheet Car Rental Form
A1: Car Rental Form
A3: Pickup
A4: Location:
A5: Date:
A6: Time | D6: Tilbake til bestillingsskjema
A7: Flight no. (if relevant):
A8: Desired car size / type: | D8: Return to purchase request form
A10: Return
A11: Location:
A12: Date:
A13: Time:
A14: Name of driver:
A15: Driver's licence #:
A16: Contact telephone:
A18: Extra details:

Sheet Lists
A1: Sted | B1: Column1
A2: 15550000 | E2: 152900 | F2: 15550000
A3: 15551000 | E3: 152930 | F3: 15551000
A4: 15551500 | E4: 152940 | F4: 15551500
A5: 15552000 | E5: 152950 | F5: 15552000
A6: 15552500 | E6: 152960 | F6: 15552500
A7: 15553000 | E7: 152970 | F7: 15553000
A8: 15550500 | E8: 152910 | F8: 15550500
A9: 15550505 | E9: 152911 | F9: 15550505
A10: 15550510 | E10: 152912 | F10: 15550510
E11: 152913
A12: 15550515 | E12: 152914 | F12: 15550515
A13: 15550520 | E13: 152915 | F13: 15550520
A14: 15550525 | E14: 152916 | F14: 15550525
A15: 15551005 | E15: 152931 | F15: 15551005
A16: 15551015 | E16: 152933 | F16: 15551015
A17: 15551505 | E17: 152941 | F17: 15551505
A18: 15552005 | E18: 152951 | F18: 15552005
A19: 15552010 | E19: 152952 | F19: 15552010
A20: 15552505 | E20: 152961 | F20: 15552505
A21: 15553005 | E21: 152971 | F21: 15553005
A22: 15553010 | E22: 152972 | F22: 15553010
A24: Seksjon
A25: AKVA
A26: BMB
A27: CEES
A28: EVOGENE
A29: FYSCELL
A30: ADM
A33: JAellerNEI | B33: YESellerNO
A34: JA | B34: YES
A35: NEI | B35: NO
A38: Valuta
A39: AUD
A40: CAD
A41: CHF
A42: DEK
A43: EUR
A44: GBP
A45: NOK
...

Sheet Ark4
A1: Artikkel-/varenr. | B1: Produkt beskrivelse | C1: Leverandør | D1: Anslått stykkpris | E1: Antall | F1: Pris | G1: Valuta | H1: Koststed | I1: Delprosjekt
A2: =Bestillingsskjema!A22 -> 0 | B2: =Bestillingsskjema!B22 -> 0 | C2: =Bestillingsskjema!#REF! -> #REF! | D2: =Bestillingsskjema!C22 -> 0 | E2: =Bestillingsskjema!D22 -> 0 | F2: =Bestillingsskjema!E22 -> 0 | G2: =Bestillingsskjema!G22 -> NOK | H2: =Bestillingsskjema!B$51 -> 0 | I2: =Bestillingsskjema!B$53 -> 0
A3: =Bestillingsskjema!A24 -> 0 | B3: =Bestillingsskjema!B24 -> 0 | C3: =Bestillingsskjema!#REF! -> #REF! | D3: =Bestillingsskjema!C23 -> 0 | E3: =Bestillingsskjema!D23 -> 0 | F3: =Bestillingsskjema!E23 -> 0 | G3: =Bestillingsskjema!G23 -> NOK | H3: =Bestillingsskjema!B$51 -> 0 | I3: =Bestillingsskjema!B$53 -> 0
A4: =Bestillingsskjema!A32 -> 0 | B4: =Bestillingsskjema!B32 -> 0 | C4: =Bestillingsskjema!#REF! -> #REF! | D4: =Bestillingsskjema!C24 -> 0 | E4: =Bestillingsskjema!D24 -> 0 | F4: =Bestillingsskjema!E24 -> 0 | G4: =Bestillingsskjema!G24 -> NOK | H4: =Bestillingsskjema!B$51 -> 0 | I4: =Bestillingsskjema!B$53 -> 0
A5: =Bestillingsskjema!A33 -> 0 | B5: =Bestillingsskjema!B33 -> 0 | C5: =Bestillingsskjema!#REF! -> #REF! | D5: =Bestillingsskjema!C32 -> 0 | E5: =Bestillingsskjema!D32 -> 0 | F5: =Bestillingsskjema!E32 -> 0 | G5: =Bestillingsskjema!G32 -> NOK | H5: =Bestillingsskjema!B$51 -> 0 | I5: =Bestillingsskjema!B$53 -> 0
A6: =Bestillingsskjema!A34 -> 0 | B6: =Bestillingsskjema!B34 -> 0 | C6: =Bestillingsskjema!#REF! -> #REF! | D6: =Bestillingsskjema!C33 -> 0 | E6: =Bestillingsskjema!D33 -> 0 | F6: =Bestillingsskjema!E33 -> 0 | G6: =Bestillingsskjema!G33 -> NOK | H6: =Bestillingsskjema!B$51 -> 0 | I6: =Bestillingsskjema!B$53 -> 0
A7: =Bestillingsskjema!A38 -> 0 | B7: =Bestillingsskjema!B38 -> 0 | C7: =Bestillingsskjema!#REF! -> #REF! | D7: =Bestillingsskjema!C34 -> 0 | E7: =Bestillingsskjema!D34 -> 0 | F7: =Bestillingsskjema!E34 -> 0 | G7: =Bestillingsskjema!G34 -> NOK | H7: =Bestillingsskjema!B$51 -> 0 | I7: =Bestillingsskjema!B$53 -> 0
A8: =Bestillingsskjema!A39 -> 0 | B8: =Bestillingsskjema!B39 -> 0 | C8: =Bestillingsskjema!#REF! -> #REF! | D8: =Bestillingsskjema!C35 -> 0 | E8: =Bestillingsskjema!D35 -> 0 | F8: =Bestillingsskjema!E35 -> 0 | G8: =Bestillingsskjema!G35 -> NOK | H8: =Bestillingsskjema!B$51 -> 0 | I8: =Bestillingsskjema!B$53 -> 0
A9: =Bestillingsskjema!A40 -> 0 | B9: =Bestillingsskjema!B40 -> 0 | C9: =Bestillingsskjema!#REF! -> #REF! | D9: =Bestillingsskjema!C36 -> 0 | E9: =Bestillingsskjema!D36 -> 0 | F9: =Bestillingsskjema!E36 -> 0 | G9: =Bestillingsskjema!G36 -> NOK | H9: =Bestillingsskjema!B$51 -> 0 | I9: =Bestillingsskjema!B$53 -> 0
A10: =Bestillingsskjema!#REF! -> #REF! | B10: =Bestillingsskjema!#REF! -> #REF! | C10: =Bestillingsskjema!#REF! -> #REF! | D10: =Bestillingsskjema!C37 -> 0 | E10: =Bestillingsskjema!D37 -> 0 | F10: =Bestillingsskjema!E37 -> 0 | G10: =Bestillingsskjema!G37 -> NOK | H10: =Bestillingsskjema!B$51 -> 0 | I10: =Bestillingsskjema!B$53 -> 0
A11: =Bestillingsskjema!#REF! -> #REF! | B11: =Bestillingsskjema!#REF! -> #REF! | C11: =Bestillingsskjema!#REF! -> #REF! | D11: =Bestillingsskjema!C38 -> 0 | E11: =Bestillingsskjema!D38 -> 0 | F11: =Bestillingsskjema!E38 -> 0 | G11: =Bestillingsskjema!G38 -> NOK | H11: =Bestillingsskjema!B$51 -> 0 | I11: =Bestillingsskjema!B$53 -> 0
A12: =Bestillingsskjema!#REF! -> #REF! | B12: =Bestillingsskjema!#REF! -> #REF! | C12: =Bestillingsskjema!#REF! -> #REF! | D12: =Bestillingsskjema!C39 -> 0 | E12: =Bestillingsskjema!D39 -> 0 | F12: =Bestillingsskjema!E39 -> 0 | G12: =Bestillingsskjema!G39 -> NOK | H12: =Bestillingsskjema!B$51 -> 0 | I12: =Bestillingsskjema!B$53 -> 0
A13: =Bestillingsskjema!A40 -> 0 | B13: =Bestillingsskjema!B40 -> 0 | C13: =Bestillingsskjema!#REF! -> #REF! | D13: =Bestillingsskjema!C40 -> 0 | E13: =Bestillingsskjema!D40 -> 0 | F13: =Bestillingsskjema!E40 -> 0 | G13: =Bestillingsskjema!G40 -> NOK | H13: =Bestillingsskjema!B$51 -> 0 | I13: =Bestillingsskjema!B$53 -> 0
A14: =Bestillingsskjema!#REF! -> #REF! | B14: =Bestillingsskjema!#REF! -> #REF! | C14: =Bestillingsskjema!#REF! -> #REF! | D14: =Bestillingsskjema!#REF! -> #REF! | E14: =Bestillingsskjema!#REF! -> #REF! | F14: =Bestillingsskjema!#REF! -> #REF! | G14: =Bestillingsskjema!#REF! -> #REF! | H14: =Bestillingsskjema!B$51 -> 0 | I14: =Bestillingsskjema!B$53 -> 0
A15: =Bestillingsskjema!#REF! -> #REF! | B15: =Bestillingsskjema!#REF! -> #REF! | C15: =Bestillingsskjema!#REF! -> #REF! | D15: =Bestillingsskjema!#REF! -> #REF! | E15: =Bestillingsskjema!#REF! -> #REF! | F15: =Bestillingsskjema!#REF! -> #REF! | G15: =Bestillingsskjema!#REF! -> #REF! | H15: =Bestillingsskjema!B$51 -> 0 | I15: =Bestillingsskjema!B$53 -> 0
