Workbook

Sheet Gantt
A1: What | B1: Begin | C1: End | D1: Total
A2: Milestone 1 | B2: =Milestone_1!$F$2 -> 42969 | C2: =Milestone_1!$G$9 -> 43005 | D2: =C2-B2 -> 36
A3: Eval_M1 | B3: =Eval_M1!D2 -> 43006 | C3: =Eval_M1!E2 -> 43010 | D3: =C3-B3 -> 4
A4: Milestone 2 | B4: =Milestone_2!$F$2 -> 43011 | C4: =Milestone_2!$G$6 -> 43021 | D4: =C4-B4 -> 10
A5: Eval_M2 | B5: =Eval_M2!D2 -> 43022 | C5: =Eval_M2!E2 -> 43024 | D5: =C5-B5 -> 2
A6: Milestone 3 | B6: =Milestone_3!F2 -> 43025 | C6: =Milestone_3!G9 -> 43061 | D6: =C6-B6 -> 36
A7: Eval_M3 | B7: =Eval_M3!D2 -> 43062 | C7: =Eval_M3!E2 -> 43066 | D7: =C7-B7 -> 4
A8: Milestone 4 | B8: =Milestone_4!F2 -> 43067 | C8: =Milestone_4!G9 -> 43103 | D8: =C8-B8 -> 36
A9: Eval_M4 | B9: =Eval_M4!D2 -> 43104 | C9: =Eval_M4!E2 -> 43108 | D9: =C9-B9 -> 4
A10: Milestone 5 | B10: =Milestone_5!F2 -> 43109 | C10: =Milestone_5!G9 -> 43173 | D10: =C10-B10 -> 64
A11: Eval_M5 | B11: =Eval_M5!D2 -> 43174 | C11: =Eval_M5!E2 -> 43180 | D11: =C11-B11 -> 6

Sheet Milestone_1
A1: nr. | B1: Activity | C1: Who | D1: Cost | E1: Resurs bruk | F1: Start | G1: End | H1: Time (est) | I1: Helg/Hellige | J1: Time (+/-) | K1: Time (real) | L1: Notes
A2: 1 | B2: Activity 1 | E2: =K2-I2 -> 1 | F2: 42969 | G2: =F2+H2+J2 -> 42970 | H2: 1 | K2: =G2-F2 -> 1
A3: 2 | B3: Activity 2 | E3: =K3-I3 -> 2 | F3: =G2 -> 42970 | G3: =F3+H3+J3 -> 42972 | H3: 2 | K3: =G3-F3 -> 2
A4: 3 | B4: Activity 3 | E4: =K4-I4 -> 6 | F4: =G3 -> 42972 | G4: =F4+H4+J4 -> 42980 | H4: 8 | I4: 2 | K4: =G4-F4 -> 8
A5: 4 | B5: Activity 4 | E5: =K5-I5 -> 3 | F5: =G4 -> 42980 | G5: =F5+H5+J5 -> 42983 | H5: 3 | K5: =G5-F5 -> 3
A6: 5 | B6: Activity 5 | E6: =K6-I6 -> 4 | F6: =G5 -> 42983 | G6: =F6+H6+J6 -> 42987 | H6: 4 | K6: =G6-F6 -> 4
A7: 6 | B7: Activity 6 | E7: =K7-I7 -> 5 | F7: =G6 -> 42987 | G7: =F7+H7+J7 -> 42992 | H7: 5 | K7: =G7-F7 -> 5
A8: 7 | B8: Activity 7 | E8: =K8-I8 -> 6 | F8: =G7 -> 42992 | G8: =F8+H8+J8 -> 42998 | H8: 6 | K8: =G8-F8 -> 6
A9: 8 | B9: Activity 8 | E9: =K9-I9 -> 7 | F9: =G8 -> 42998 | G9: =F9+H9+J9 -> 43005 | H9: 7 | K9: =G9-F9 -> 7

Sheet Eval_M1
A1: nr. | B1: Activity | C1: Who | D1: Start | E1: End | F1: Time (est) | G1: Helg/Hellige | H1: Time (D) | I1: Time (real) | J1: Notes
A2: 1 | B2: Eval | D2: =Milestone_1!G9+1 -> 43006 | E2: =D2+F2+H2 -> 43010 | F2: 2 | H2: 2 | I2: =E2-D2 -> 4

Sheet Milestone_2
A1: nr. | B1: Activity | C1: Who | D1: Cost | E1: Resurs bruk | F1: Start | G1: End | H1: Time (est) | I1: Helg/Hellige | J1: Time (D) | K1: Time (real) | L1: Notes
A2: 1 | B2: Activity 1 | E2: =K2-I2 -> 3 | F2: =Eval_M1!E2+1 -> 43011 | G2: =F2+H2+J2 -> 43014 | H2: 1 | J2: 2 | K2: =G2-F2 -> 3
A3: 2 | B3: Activity 2 | E3: =K3-I3 -> 2 | F3: =G2 -> 43014 | G3: =F3+H3+J3 -> 43016 | H3: 2 | K3: =G3-F3 -> 2
A4: 3 | B4: Activity 3 | E4: =K4-I4 -> -1 | F4: =G3 -> 43016 | G4: =F4+H4+J4 -> 43017 | H4: 1 | I4: 2 | J4: 0 | K4: =G4-F4 -> 1
A5: 4 | B5: Activity 4 | E5: =K5-I5 -> 3 | F5: =G4 -> 43017 | G5: =F5+H5+J5 -> 43020 | H5: 3 | K5: =G5-F5 -> 3
A6: 5 | B6: Activity 5 | E6: =K6-I6 -> 1 | F6: =G5 -> 43020 | G6: =F6+H6+J6 -> 43021 | H6: 1 | K6: =G6-F6 -> 1

Sheet Eval_M2
A1: nr. | B1: Activity | C1: Who | D1: Start | E1: End | F1: Time (est) | G1: Helg/Hellige | H1: Time (D) | I1: Time (real) | J1: Notes
A2: 1 | B2: Eval | D2: =Milestone_2!G6+1 -> 43022 | E2: =D2+F2+H2 -> 43024 | F2: 1 | H2: 1 | I2: =E2-D2 -> 2

Sheet Milestone_3
A1: nr. | B1: Activity | C1: Who | D1: Cost | E1: Resurs bruk | F1: Start | G1: End | H1: Time (est) | I1: Helg/Hellige | J1: Time (D) | K1: Time (real) | L1: Notes
A2: 1 | B2: Activity 1 | E2: =K2-I2 -> 3 | F2: =Eval_M2!E2+1 -> 43025 | G2: =F2+H2+J2 -> 43028 | H2: 1 | J2: 2 | K2: =G2-F2 -> 3
A3: 2 | B3: Activity 2 | E3: =K3-I3 -> 2 | F3: =G2 -> 43028 | G3: =F3+H3+J3 -> 43030 | H3: 2 | K3: =G3-F3 -> 2
A4: 3 | B4: Activity 3 | E4: =K4-I4 -> 1 | F4: =G3 -> 43030 | G4: =F4+H4+J4 -> 43033 | H4: 3 | I4: 2 | J4: 0 | K4: =G4-F4 -> 3
A5: 4 | B5: Activity 4 | E5: =K5-I5 -> 3 | F5: =G4 -> 43033 | G5: =F5+H5+J5 -> 43036 | H5: 3 | K5: =G5-F5 -> 3
A6: 5 | B6: Activity 5 | E6: =K6-I6 -> 4 | F6: =G5 -> 43036 | G6: =F6+H6+J6 -> 43040 | H6: 4 | K6: =G6-F6 -> 4
A7: 6 | B7: Activity 6 | E7: =K7-I7 -> 5 | F7: =G6 -> 43040 | G7: =F7+H7+J7 -> 43045 | H7: 5 | K7: =G7-F7 -> 5
A8: 7 | B8: Activity 7 | E8: =K8-I8 -> 14 | F8: =G7 -> 43045 | G8: =F8+H8+J8 -> 43059 | H8: 14 | K8: =G8-F8 -> 14
A9: 8 | B9: Activity 8 | E9: =K9-I9 -> 2 | F9: =G8 -> 43059 | G9: =F9+H9+J9 -> 43061 | H9: 2 | K9: =G9-F9 -> 2

Sheet Eval_M3
A1: nr. | B1: Activity | C1: Who | D1: Start | E1: End | F1: Time (est) | G1: Helg/Hellige | H1: Time (D) | I1: Time (real) | J1: Notes
A2: 1 | B2: Eval | D2: =Milestone_3!G9+1 -> 43062 | E2: =D2+F2+H2 -> 43066 | F2: 2 | H2: 2 | I2: =E2-D2 -> 4

Sheet Milestone_4
A1: nr. | B1: Activity | C1: Who | D1: Cost | E1: Resurs bruk | F1: Start | G1: End | H1: Time (est) | I1: Helg/Hellige | J1: Time (D) | K1: Time (real) | L1: Notes
A2: 1 | B2: Activity 1 | E2: =K2-I2 -> 3 | F2: =Eval_M3!E2+1 -> 43067 | G2: =F2+H2+J2 -> 43070 | H2: 1 | J2: 2 | K2: =G2-F2 -> 3
A3: 2 | B3: Activity 2 | E3: =K3-I3 -> 2 | F3: =G2 -> 43070 | G3: =F3+H3+J3 -> 43072 | H3: 2 | K3: =G3-F3 -> 2
A4: 3 | B4: Activity 3 | E4: =K4-I4 -> -1 | F4: =G3 -> 43072 | G4: =F4+H4+J4 -> 43073 | H4: 1 | I4: 2 | J4: 0 | K4: =G4-F4 -> 1
A5: 4 | B5: Activity 4 | E5: =K5-I5 -> 3 | F5: =G4 -> 43073 | G5: =F5+H5+J5 -> 43076 | H5: 3 | K5: =G5-F5 -> 3
A6: 5 | B6: Activity 5 | E6: =K6-I6 -> 9 | F6: =G5 -> 43076 | G6: =F6+H6+J6 -> 43085 | H6: 9 | K6: =G6-F6 -> 9
A7: 6 | B7: Activity 6 | E7: =K7-I7 -> 5 | F7: =G6 -> 43085 | G7: =F7+H7+J7 -> 43090 | H7: 5 | K7: =G7-F7 -> 5
A8: 7 | B8: Activity 7 | E8: =K8-I8 -> 6 | F8: =G7 -> 43090 | G8: =F8+H8+J8 -> 43096 | H8: 6 | K8: =G8-F8 -> 6
A9: 8 | B9: Activity 8 | E9: =K9-I9 -> 7 | F9: =G8 -> 43096 | G9: =F9+H9+J9 -> 43103 | H9: 7 | K9: =G9-F9 -> 7

Sheet Eval_M4
A1: nr. | B1: Activity | C1: Who | D1: Start | E1: End | F1: Time (est) | G1: Helg/Hellige | H1: Time (D) | I1: Time (real) | J1: Notes
A2: 1 | B2: Eval | D2: =Milestone_4!$G$9+1 -> 43104 | E2: =D2+F2+H2 -> 43108 | F2: 2 | H2: 2 | I2: =E2-D2 -> 4

Sheet Milestone_5
A1: nr. | B1: Activity | C1: Who | D1: Cost | E1: Resurs bruk | F1: Start | G1: End | H1: Time (est) | I1: Helg/Hellige | J1: Time (D) | K1: Time (real) | L1: Notes
A2: 1 | B2: Activity 1 | E2: =K2-I2 -> 7 | F2: =Eval_M4!E2+1 -> 43109 | G2: =F2+H2+J2 -> 43116 | H2: 1 | J2: 6 | K2: =G2-F2 -> 7
A3: 2 | B3: Activity 2 | E3: =K3-I3 -> 2 | F3: =G2 -> 43116 | G3: =F3+H3+J3 -> 43118 | H3: 2 | K3: =G3-F3 -> 2
A4: 3 | B4: Activity 3 | E4: =K4-I4 -> 15 | F4: =G3 -> 43118 | G4: =F4+H4+J4 -> 43135 | H4: 8 | I4: 2 | J4: 9 | K4: =G4-F4 -> 17
A5: 4 | B5: Activity 4 | E5: =K5-I5 -> 3 | F5: =G4 -> 43135 | G5: =F5+H5+J5 -> 43138 | H5: 3 | K5: =G5-F5 -> 3
A6: 5 | B6: Activity 5 | E6: =K6-I6 -> 4 | F6: =G5 -> 43138 | G6: =F6+H6+J6 -> 43142 | H6: 4 | K6: =G6-F6 -> 4
A7: 6 | B7: Activity 6 | E7: =K7-I7 -> 5 | F7: =G6 -> 43142 | G7: =F7+H7+J7 -> 43147 | H7: 5 | K7: =G7-F7 -> 5
A8: 7 | B8: Activity 7 | E8: =K8-I8 -> 19 | F8: =G7 -> 43147 | G8: =F8+H8+J8 -> 43166 | H8: 6 | J8: 13 | K8: =G8-F8 -> 19
A9: 8 | B9: Activity 8 | E9: =K9-I9 -> 7 | F9: =G8 -> 43166 | G9: =F9+H9+J9 -> 43173 | H9: 7 | K9: =G9-F9 -> 7

Sheet Eval_M5
A1: nr. | B1: Activity | C1: Who | D1: Start | E1: End | F1: Time (est) | G1: Helg/Hellige | H1: Time (D) | I1: Time (real) | J1: Notes
A2: 1 | B2: Eval | D2: =Milestone_5!G9+1 -> 43174 | E2: =D2+F2+H2 -> 43180 | F2: 4 | H2: 2 | I2: =E2-D2 -> 6
